BEGIN:VCALENDAR
VERSION:2.0
PRODID:-//ChamberMaster//Event Calendar 2.0//EN
METHOD:PUBLISH
X-PUBLISHED-TTL:P3D
REFRESH-INTERVAL:P3D
CALSCALE:GREGORIAN
BEGIN:VEVENT
DTSTART;VALUE=DATE:20170704
DTEND;VALUE=DATE:20170705
TRANSP:TRANSPARENT
X-MICROSOFT-CDO-ALLDAYEVENT:TRUE
SUMMARY:52nd Annual Independence Day Parade
DESCRIPTION:Bike Parade - 11:15 a.m. \n\n52nd Annual Independence Day Parade - 11:20 a.m. \n\nTwilight Concert and Fireworks - 7 p.m.
X-ALT-DESC;FMTTYPE=text/html:Bike Parade - 11:15 a.m.&nbsp\;<br />\n52nd Annual Independence Day Parade - 11:20 a.m.&nbsp\;<br />\nTwilight Concert and Fireworks - 7 p.m.&nbsp\;<br />\n&nbsp\;
LOCATION:Due to construction on the traditional parade route\, the parade route for 2017 only begins at the intersection of Glenview Road and Elm Street\, and travels west for 1.4 miles on Glenview Road to Glendale Road.
UID:e.434.7137
SEQUENCE:3
DTSTAMP:20260426T030540Z
URL:http://business.glenviewchamber.com/events/details/52nd-annual-independence-day-parade-7137
END:VEVENT

END:VCALENDAR
