BEGIN:VCALENDAR
VERSION:2.0
PRODID:-//ChamberMaster//Event Calendar 2.0//EN
METHOD:PUBLISH
X-PUBLISHED-TTL:P3D
REFRESH-INTERVAL:P3D
CALSCALE:GREGORIAN
BEGIN:VEVENT
DTSTART:20170909T200000Z
DTEND:20170910T030000Z
X-MICROSOFT-CDO-ALLDAYEVENT:FALSE
SUMMARY:9 & Wine
DESCRIPTION:After 3 p.m.\, September 9 at Glenview Prairie Club\, 2800 W. Lake Ave.\n\nCome and join us for a relaxing 9-hole round. Finish up with a glass of wine and enjoy the view from our clubhouse or patio. Must be 21 or older. Admission is $25 and covers green fee\, golf cart and a glass of wine. For more information or to book a tee time\, visit golfglenview.com or call 847-657-1637.
X-ALT-DESC;FMTTYPE=text/html:After 3 p.m.\, September 9 at Glenview Prairie Club\, 2800 W. Lake Ave.<br />\nCome and join us for a relaxing 9-hole round. Finish up with a glass of wine and enjoy the view from our clubhouse or patio. Must be 21 or older. Admission is $25 and covers green fee\, golf cart and a glass of wine. For more information or to book a tee time\, visit golfglenview.com or call 847-657-1637.&nbsp\;
LOCATION:Glenview Prairie Club 800 W. Lake Ave. Glenview
UID:e.434.7295
SEQUENCE:3
DTSTAMP:20260426T001405Z
URL:http://business.glenviewchamber.com/events/details/9-wine-7295
END:VEVENT

END:VCALENDAR
