BEGIN:VCALENDAR
VERSION:2.0
PRODID:-//ChamberMaster//Event Calendar 2.0//EN
METHOD:PUBLISH
X-PUBLISHED-TTL:P3D
REFRESH-INTERVAL:P3D
CALSCALE:GREGORIAN
BEGIN:VEVENT
DTSTART:20180127T150000Z
DTEND:20180127T200000Z
X-MICROSOFT-CDO-ALLDAYEVENT:FALSE
SUMMARY:Active Shooter Self Defense Seminar
DESCRIPTION:SURVIVE DON'T BE A VICTIM! Open to the community. Register online today for the next seminar Jan. 27th in Glenview Illinois. www.Go2firesafetytraining.com  In this 4 1/2 hour seminar you'll learn:\n\n	The definition of an Active Shooter\n	The 4 types of Active Shooters\n	5 phases of an active Shooter\n	5 Level of awareness and much more.....
X-ALT-DESC;FMTTYPE=text/html:<span style="background-color:rgb(255\, 255\, 255)\; color:rgb(29\, 33\, 41)\; font-family:helvetica\,arial\,sans-serif\; font-size:14px">SURVIVE DON&#39\;T BE A VICTIM! Open to the community. Register online today for the next seminar Jan. 27th in Glenview Illinois. w</span><a href="http://www.go2firesafetytraining.com/" rel="noopener nofollow" style="color: rgb(54\, 88\, 153)\; text-decoration-line: none\; font-family: Helvetica\, Arial\, sans-serif\; font-size: 14px\; background-color: rgb(255\, 255\, 255)\;" target="_blank">ww.Go2firesafetytraining.com</a>&nbsp\; In this 4 1/2 hour seminar you&#39\;ll learn:\n<ul>\n	<li>The definition of an Active Shooter</li>\n	<li>The 4 types of Active Shooters</li>\n	<li>5 phases of an active Shooter</li>\n	<li>5 Level of awareness and much more.....</li>\n</ul>\n
LOCATION:Glenview ATA Black Belt Academy\, 3210 West Lake Ave.\, Glenview IL 60026 Ph # 847-847-0900
UID:e.434.8710
SEQUENCE:3
DTSTAMP:20260425T190312Z
URL:http://business.glenviewchamber.com/events/details/active-shooter-self-defense-seminar-8710
END:VEVENT

END:VCALENDAR
