BEGIN:VCALENDAR
VERSION:2.0
PRODID:-//ChamberMaster//Event Calendar 2.0//EN
METHOD:PUBLISH
X-PUBLISHED-TTL:P3D
REFRESH-INTERVAL:P3D
CALSCALE:GREGORIAN
BEGIN:VEVENT
DTSTART;VALUE=DATE:20171108
DTEND;VALUE=DATE:20171109
TRANSP:TRANSPARENT
X-MICROSOFT-CDO-ALLDAYEVENT:TRUE
SUMMARY:Application Deadline for Holiday in the Park Parade
DESCRIPTION:Catch a Snow ake.\n\nWelcome Santa.\n\nLight up the town.\n\nAt Holiday in the Park and Parade!\n\n\n\nStarting at 4 p.m.\, we're lighting the street. \n\nMinutes later: Santa's Parade! Floats! Fun!\n\nAfter the parade: Santa throws a party in Jackman Park (with presents)!  And then? Glenview's tree lighting. Gorgeous. And we want you to be there.\n\nClick here for application.\n\n\n\nSponsors: Berkshire Hathaway Home Services\, Emerald Place-An Anthem Memory Care Community\, Glenview State Bank\, Northern Seasonal Services\, NorthShore University Health Systems
X-ALT-DESC;FMTTYPE=text/html:<p>Catch&nbsp\;a Snow&#64258\;ake.<br />\nWelcome Santa.<br />\nLight up the town.<br />\nAt Holiday in the Park and Parade!<br />\n<br />\nStarting at 4 p.m.\, we&#39\;re lighting the street.&nbsp\;<br />\nMinutes later: Santa&#39\;s Parade! Floats! Fun!<br />\nAfter the parade: Santa throws a party in Jackman Park (with presents)! &nbsp\;And then? Glenview&#39\;s tree lighting. Gorgeous. And we want you to be there.</p>\n\n<p><a href="https://chambermaster.blob.core.windows.net/userfiles/UserFiles/chambers/434/File/application.pdf">Click here for application.</a><br />\n<br />\nSponsors: Berkshire Hathaway Home Services\, Emerald Place-An Anthem Memory Care Community\, Glenview State Bank\, Northern Seasonal Services\, NorthShore University Health Systems</p>\n
LOCATION:Starting at OLPH west of Waukegan Road\, Glenview.
UID:e.434.7317
SEQUENCE:3
DTSTAMP:20260425T214618Z
URL:http://business.glenviewchamber.com/events/details/application-deadline-for-holiday-in-the-park-parade-7317
END:VEVENT

END:VCALENDAR
