BEGIN:VCALENDAR
VERSION:2.0
PRODID:-//ChamberMaster//Event Calendar 2.0//EN
METHOD:PUBLISH
X-PUBLISHED-TTL:P3D
REFRESH-INTERVAL:P3D
CALSCALE:GREGORIAN
BEGIN:VEVENT
DTSTART:20170729T220000Z
DTEND:20170730T010000Z
X-MICROSOFT-CDO-ALLDAYEVENT:FALSE
SUMMARY:Art on a Hot Tin Roof
DESCRIPTION:Arts of Life Presents...\n\nArt on a Hot Tin Roof \n\nBidding in now open on a truly exceptional silent auction. Check it out:\n\nhttps://www.biddingforgood.com/auction/auctionhome.action?vhost=AHTR2017\n\n\n\nEVENT DETAILS: Yes - Drinks are included with your ticket. What else?\n\n	Top-notch brews from Revolution Brewing and Mount Gay Rum Punch from the Bottom Lounge\n	Live Art was the inspiration for this event. Guest artist Emma Katrine Nylund will be drawing custom attendee portraits against an amazing cityscape on the rooftop\, accompanied by a special exhibition from The Arts of Life's artists.\n	Music by Van Go Go and tunes by DJ Andrew Rafacz and DJ Joseph Guisti.\n	Savory Hors D'oeuvres catered by the Bottom Lounge\n	Delightful desserts from Magnolia Bakery\n\n\n\nSILENT AUCTION: Start bidding here!*\n\n\n	Tickets to Hamilton in Chicago\n	Southwest Airlines passes\n	Tickets for Billy Joel @ Wrigley Field \n	1 month of unlimited yoga at Zen Yoga Garage.\n	And more!
X-ALT-DESC;FMTTYPE=text/html:Arts of Life Presents...<br />\nArt on a Hot Tin Roof&nbsp\;<br />\nBidding in now open on a truly exceptional silent auction. Check it out:<br />\nhttps://www.biddingforgood.com/auction/auctionhome.action?vhost=AHTR2017<br />\n<br />\n<strong><span style="color:#202020\;"><span style="font-family:helvetica\,sans-serif\;"><span style="font-size:13.5pt\;">EVENT DETAILS: Yes - Drinks are included with your ticket. What else?</span></span></span></strong>\n<ul>\n	<li><strong><span style="color:#202020\;"><span style="font-family:helvetica\,sans-serif\;">Top-notch brews</span></span></strong><span style="color:#202020\;"><span style="font-family:helvetica\,sans-serif\;">&nbsp\;from Revolution Brewing and&nbsp\;Mount Gay Rum Punch from the Bottom Lounge</span></span></li>\n	<li><strong><span style="color:#202020\;"><span style="font-family:helvetica\,sans-serif\;">Live Art</span></span></strong><span style="color:#202020\;"><span style="font-family:helvetica\,sans-serif\;">&nbsp\;was the inspiration for this event. Guest artist Emma Katrine Nylund will be drawing custom attendee portraits against an amazing cityscape on the rooftop\, accompanied by a special exhibition from The Arts of Life&#39\;s artists.</span></span></li>\n	<li><strong><span style="color:#202020\;"><span style="font-family:helvetica\,sans-serif\;">Music</span></span></strong><span style="color:#202020\;"><span style="font-family:helvetica\,sans-serif\;">&nbsp\;by&nbsp\;<a href="http://artsoflife.us4.list-manage1.com/track/click?u=676dcf6750de4694fd657fca1&amp\;id=542d67cfc0&amp\;e=020c8a7abf" target="_blank"><span style="color:#2BAADF\;">Van Go Go</span></a>&nbsp\;and tunes by DJ&nbsp\;<a href="http://artsoflife.us4.list-manage.com/track/click?u=676dcf6750de4694fd657fca1&amp\;id=61e29217d3&amp\;e=020c8a7abf" target="_blank"><span style="color:#2BAADF\;">Andrew Rafacz</span></a>&nbsp\;and DJ Joseph Guisti.</span></span></li>\n	<li><strong><span style="color:#202020\;"><span style="font-family:helvetica\,sans-serif\;">Savory Hors D&#39\;oeuvres</span></span></strong><span style="color:#202020\;"><span style="font-family:helvetica\,sans-serif\;">&nbsp\;catered by the Bottom Lounge</span></span></li>\n	<li><strong><span style="color:#202020\;"><span style="font-family:helvetica\,sans-serif\;">Delightful desserts</span></span></strong><span style="color:#202020\;"><span style="font-family:helvetica\,sans-serif\;">&nbsp\;from Magnolia Bakery</span></span></li>\n</ul>\n<br />\n<strong><span style="color:#202020\;"><span style="font-family:helvetica\,sans-serif\;"><span style="font-size:13.5pt\;">SILENT</span></span></span></strong>&nbsp\;<strong><span style="color:#202020\;"><span style="font-family:helvetica\,sans-serif\;"><span style="font-size:13.5pt\;">AUCTION</span></span></span></strong><strong><span style="color:#202020\;"><span style="font-family:helvetica\,sans-serif\;"><span style="font-size:13.5pt\;">: Start bidding&nbsp\;<a href="http://artsoflife.us4.list-manage.com/track/click?u=676dcf6750de4694fd657fca1&amp\;id=1119d60fa0&amp\;e=020c8a7abf" target="_blank"><span style="font-weight:normal\;"><span style="color:#2BAADF\;">here</span></span></a>!*</span></span></span></strong>\n\n<ul>\n	<li><span style="color:#202020\;"><span style="font-family:helvetica\,sans-serif\;">Tickets to&nbsp\;<a href="http://artsoflife.us4.list-manage.com/track/click?u=676dcf6750de4694fd657fca1&amp\;id=fecb18d15e&amp\;e=020c8a7abf" target="_blank"><em><span style="color:#2baadf\;">Hamilton</span></em></a>&nbsp\;in Chicago</span></span></li>\n	<li><span style="color:#202020\;"><span style="font-family:helvetica\,sans-serif\;"><a href="http://artsoflife.us4.list-manage.com/track/click?u=676dcf6750de4694fd657fca1&amp\;id=e9310c9798&amp\;e=020c8a7abf" target="_blank"><span style="color:#2BAADF\;">Southwest Airlines passes</span></a></span></span></li>\n	<li><span style="color:#202020\;"><span style="font-family:helvetica\,sans-serif\;">Tickets for&nbsp\;<a href="http://artsoflife.us4.list-manage.com/track/click?u=676dcf6750de4694fd657fca1&amp\;id=5b5b2a5aa6&amp\;e=020c8a7abf" target="_blank"><span style="color:#2BAADF\;">Billy Joel @ Wrigley Field&nbsp\;</span></a></span></span></li>\n	<li><span style="color:#202020\;"><span style="font-family:helvetica\,sans-serif\;">1 month of unlimited yoga at&nbsp\;<a href="http://artsoflife.us4.list-manage.com/track/click?u=676dcf6750de4694fd657fca1&amp\;id=a7ee57d4e6&amp\;e=020c8a7abf" target="_blank"><span style="color:#2BAADF\;">Zen Yoga Garage</span></a>.</span></span></li>\n	<li><span style="color:#202020\;"><span style="font-family:helvetica\,sans-serif\;">And more!</span></span></li>\n</ul>\n<br />\n&nbsp\;
LOCATION:Bottom Lounge 1375 W. Lake Street Chicago
UID:e.434.7282
SEQUENCE:3
DTSTAMP:20260426T030615Z
URL:http://business.glenviewchamber.com/events/details/art-on-a-hot-tin-roof-7282
END:VEVENT

END:VCALENDAR
