BEGIN:VCALENDAR
VERSION:2.0
PRODID:-//ChamberMaster//Event Calendar 2.0//EN
METHOD:PUBLISH
X-PUBLISHED-TTL:P3D
REFRESH-INTERVAL:P3D
CALSCALE:GREGORIAN
BEGIN:VEVENT
DTSTART:20170930T010000Z
DTEND:20170930T030000Z
X-MICROSOFT-CDO-ALLDAYEVENT:FALSE
SUMMARY:Arthur Murray Dance Centers Open House
DESCRIPTION:Open House\n\nSocial Dancing\n\nStudent Demonstrations\n\nCocktails and Hor D'oeuvres\n\nComplimentary Group Classes and More
X-ALT-DESC;FMTTYPE=text/html:Open House<br />\nSocial Dancing<br />\nStudent Demonstrations<br />\nCocktails and Hor D&#39\;oeuvres<br />\nComplimentary Group Classes and More
LOCATION:1328 Waukegan Road Glenview
UID:e.434.7301
SEQUENCE:3
DTSTAMP:20260426T001506Z
URL:http://business.glenviewchamber.com/events/details/arthur-murray-dance-centers-open-house-7301
END:VEVENT

END:VCALENDAR
