BEGIN:VCALENDAR
VERSION:2.0
PRODID:-//ChamberMaster//Event Calendar 2.0//EN
METHOD:PUBLISH
X-PUBLISHED-TTL:P3D
REFRESH-INTERVAL:P3D
CALSCALE:GREGORIAN
BEGIN:VEVENT
DTSTART;VALUE=DATE:20171107
DTEND;VALUE=DATE:20171108
TRANSP:TRANSPARENT
X-MICROSOFT-CDO-ALLDAYEVENT:TRUE
SUMMARY:Artist Demo
DESCRIPTION:Artist Demo  TBA
X-ALT-DESC;FMTTYPE=text/html:Artist Demo&nbsp\; TBA
LOCATION:Park Center\, 2400 Chestnut\, Room 204
UID:e.434.7286
SEQUENCE:3
DTSTAMP:20260425T214455Z
URL:http://business.glenviewchamber.com/events/details/artist-demo-11-07-2017-7286
END:VEVENT

END:VCALENDAR
