BEGIN:VCALENDAR
VERSION:2.0
PRODID:-//ChamberMaster//Event Calendar 2.0//EN
METHOD:PUBLISH
X-PUBLISHED-TTL:P3D
REFRESH-INTERVAL:P3D
CALSCALE:GREGORIAN
BEGIN:VEVENT
DTSTART:20170906T000000Z
DTEND:20170906T020000Z
X-MICROSOFT-CDO-ALLDAYEVENT:FALSE
SUMMARY:Artist Demo - Yupo paper
DESCRIPTION:Artist Kittie Yohe demonstrates use of Yupo paper for watercolor.
X-ALT-DESC;FMTTYPE=text/html:Artist Kittie Yohe demonstrates use of Yupo paper for watercolor.
LOCATION:The Park Center\, Room 204\, 2400 Chestnut
UID:e.434.7284
SEQUENCE:3
DTSTAMP:20260426T001710Z
URL:http://business.glenviewchamber.com/events/details/artist-demo-deb-anderson-oil-painter-7284
END:VEVENT

END:VCALENDAR
