BEGIN:VCALENDAR
VERSION:2.0
PRODID:-//ChamberMaster//Event Calendar 2.0//EN
METHOD:PUBLISH
X-PUBLISHED-TTL:P3D
REFRESH-INTERVAL:P3D
CALSCALE:GREGORIAN
BEGIN:VEVENT
DTSTART:20170917T183000Z
DTEND:20170917T193000Z
X-MICROSOFT-CDO-ALLDAYEVENT:FALSE
SUMMARY:Bear 100th Birthday Bash
DESCRIPTION:A free celebration with enough cake\, music and party hats fit for a bear! Join us for a performance by the Maple School Band\, cake and refreshments\, historical presentations and a reenactment of Edwin S. Jackman's original dedication speech.
X-ALT-DESC;FMTTYPE=text/html:A free celebration with enough cake\, music and party hats fit for a bear! Join us for a performance by the Maple School Band\, cake and refreshments\, historical presentations and a reenactment of Edwin S. Jackman&rsquo\;s original dedication speech.
LOCATION:Jackman Park Gazebo 1930 Prairie Street Glenview
UID:e.434.7278
SEQUENCE:3
DTSTAMP:20260426T001404Z
URL:http://business.glenviewchamber.com/events/details/bear-100th-birthday-bash-7278
END:VEVENT

END:VCALENDAR
