BEGIN:VCALENDAR
VERSION:2.0
PRODID:-//ChamberMaster//Event Calendar 2.0//EN
METHOD:PUBLISH
X-PUBLISHED-TTL:P3D
REFRESH-INTERVAL:P3D
CALSCALE:GREGORIAN
BEGIN:VEVENT
DTSTART:20170922T210000Z
DTEND:20170923T030000Z
X-MICROSOFT-CDO-ALLDAYEVENT:FALSE
SUMMARY:Birdies & Beers
DESCRIPTION:After 4 p.m.\, September 22 at Glenview Prairie Club\, 2800 W. Lake Ave\n\nGet a group of friends together for a 21 and older night of fun. Enjoy a round of golf\, riding cart and a round of beers. For more information or to book a tee time\, visit golfglenview.com or call 847-657-1637.
X-ALT-DESC;FMTTYPE=text/html:After 4 p.m.\, September 22 at Glenview Prairie Club\, 2800 W. Lake Ave<br />\nGet a group of friends together for a 21 and older night of fun. Enjoy a round of golf\, riding cart and a round of beers. For more information or to book a tee time\, visit golfglenview.com or call 847-657-1637.
LOCATION:Glenview Prairie Club 2800 W. Lake Ave. Glenview
UID:e.434.7293
SEQUENCE:3
DTSTAMP:20260426T001542Z
URL:http://business.glenviewchamber.com/events/details/birdies-beers-7293
END:VEVENT

END:VCALENDAR
