BEGIN:VCALENDAR
VERSION:2.0
PRODID:-//ChamberMaster//Event Calendar 2.0//EN
METHOD:PUBLISH
X-PUBLISHED-TTL:P3D
REFRESH-INTERVAL:P3D
CALSCALE:GREGORIAN
BEGIN:VEVENT
DTSTART:20180426T220000Z
DTEND:20180427T010000Z
X-MICROSOFT-CDO-ALLDAYEVENT:FALSE
SUMMARY:Bites & Brews
DESCRIPTION:Splurge on a Tasty Tradition\n\nEvery year 350 friends and neighbors unabashedly treat themselves to evening of conversation\, live music\, and dozens of tastes of every type: sweet\, succulent\, piquant\, fizzy\, fiery\, cheesy\, chewy\, and tangy. They sample a huge variety of beers (provided by Joseph Mullarkey Distributors\, Granite City\, and Macushla Brewing Company)\, heart-warming wines\, and the best food in the region from very different kitchens\, including The Curragh Irish Pub & Restaurant\, Wildfire\, and Plateia.  \n\n            The secret recipe? It's Bites & Brews\, a six-year tradition in Glenview. This year's fest is scheduled for Thursday\, April 26\, 5 p.m. to 8 p.m. at The Glen Club\, 2901 W Lake Ave in Glenview.  Tickets are $25 for Chamber Members and $35 for non-members and at the door.   \n\n            As a community event organized by the Chamber\, Bites & Brews is supported by sponsors\, Wintrust (Glenview and Northview Bank and Trust) and Joseph Mullarkey Distributors.  Food provided by 23 amazing Glenview Chamber member restaurants\, caterers\, wine merchants and craft beer purveyors.
X-ALT-DESC;FMTTYPE=text/html:<p><strong><span style="font-size:12.0pt\;">Splurge on a Tasty Tradition</span></strong><br />\n<span style="font-size:12.0pt\;">Every year 350 friends and neighbors unabashedly treat themselves to&nbsp\;evening of&nbsp\;conversation\, live music\, and dozens of tastes of every type: sweet\, succulent\, piquant\, fizzy\, fiery\, cheesy\, chewy\, and tangy. They sample&nbsp\;a huge variety of beers (provided by Joseph Mullarkey Distributors\, Granite City\, and Macushla Brewing Company)\,&nbsp\;heart-warming wines\, and the best food in the region from very different kitchens\, including&nbsp\;The Curragh Irish Pub &amp\; Restaurant\, Wildfire\, and Plateia. &nbsp\;</span></p>\n\n<p><span style="font-size:12.0pt\;">&nbsp\; &nbsp\; &nbsp\; &nbsp\; &nbsp\; &nbsp\; The secret recipe? It&rsquo\;s Bites &amp\; Brews\, a six-year tradition in Glenview. This year&rsquo\;s fest is scheduled for Thursday\, April 26\, 5 p.m. to 8 p.m.&nbsp\;at The Glen Club\, 2901 W Lake Ave in Glenview.&nbsp\; Tickets are $25 for Chamber Members and $35 for non-members and at the door. &nbsp\;&nbsp\;</span></p>\n\n<p><span style="font-size:12.0pt\;">&nbsp\; &nbsp\; &nbsp\; &nbsp\; &nbsp\; &nbsp\; As a community event organized by the Chamber\, Bites &amp\; Brews is supported by sponsors\, Wintrust (Glenview and Northview Bank and Trust) and&nbsp\;Joseph Mullarkey Distributors.&nbsp\; Food provided by 23 amazing Glenview Chamber member&nbsp\;restaurants\, caterers\, wine merchants and craft beer purveyors.</span><br />\n<span style="font-size:12.0pt\;">&nbsp\; &nbsp\; &nbsp\; &nbsp\; &nbsp\; &nbsp\;</span></p>\n
LOCATION:The Glen Club 2901 W Lake Ave Glenview\, IL
UID:e.434.8704
SEQUENCE:3
DTSTAMP:20260425T151540Z
URL:http://business.glenviewchamber.com/events/details/bites-brews-8704
END:VEVENT

END:VCALENDAR
