BEGIN:VCALENDAR
VERSION:2.0
PRODID:-//ChamberMaster//Event Calendar 2.0//EN
METHOD:PUBLISH
X-PUBLISHED-TTL:P3D
REFRESH-INTERVAL:P3D
CALSCALE:GREGORIAN
BEGIN:VEVENT
DTSTART:20170916T210000Z
DTEND:20170917T010000Z
X-MICROSOFT-CDO-ALLDAYEVENT:FALSE
SUMMARY:Bonfire and Barn Dance
DESCRIPTION:Bring your family to the farm for an evening filled with fall fun for everyone! Enjoy wagon rides\, live music and dancing. Roast s'mores and listen to storytelling by the fire. For more information\, call 847-724-5670.
X-ALT-DESC;FMTTYPE=text/html:Bring your family to the farm for an evening filled with fall fun for everyone! Enjoy wagon rides\, live music and dancing. Roast s&#39\;mores and listen to storytelling by the fire. For more information\, call 847-724-5670.<br />\n
LOCATION:Historic Wagner Farm\, 1510 Wagner Rd.
UID:e.434.7292
SEQUENCE:3
DTSTAMP:20260426T001506Z
URL:http://business.glenviewchamber.com/events/details/bonfire-and-barn-dance-7292
END:VEVENT

END:VCALENDAR
