BEGIN:VCALENDAR
VERSION:2.0
PRODID:-//ChamberMaster//Event Calendar 2.0//EN
METHOD:PUBLISH
X-PUBLISHED-TTL:P3D
REFRESH-INTERVAL:P3D
CALSCALE:GREGORIAN
BEGIN:VEVENT
DTSTART:20180616T130000Z
DTEND:20180616T160000Z
X-MICROSOFT-CDO-ALLDAYEVENT:FALSE
SUMMARY:Burn Boot Camp BE THEIR MUSCLE MDA Event
DESCRIPTION:We are so excited to announce our upcoming event "Be Their Muscle" in partnership with the Muscular Dystrophy Association!\n\n\n\nThe Muscular Dystrophy Association is near and dear to our hearts.  At Burn Boot Camp\, we work to become physically strong.  To break down our own fitness barriers.  To accomplish things we never thought were possible. \n\n\n\nWe run. We jump.  We lift weights.  We build muscle.  Now help us be THEIR muscle.\n\n\n\nJoin us June 16th at Burn Boot Camp Glenview in the Nationwide Battle Against Muscular Dystrophy!\n\n\n\nRegistration starting at $25\n\n- Includes a Be Their Muscle Shirt\n\n- Co-ed Burn Boot Camp Workout\n\n-Burn -A -Thon trainer workout\n\n-Local event sponsors and activities
X-ALT-DESC;FMTTYPE=text/html:We are so excited to announce our upcoming event &quot\;Be Their Muscle&quot\; in partnership with the Muscular Dystrophy Association!<br />\n<br />\nThe Muscular Dystrophy Association is near and dear to our hearts. &nbsp\;At Burn Boot Camp\, we work to become physically strong. &nbsp\;To break down our own fitness barriers. &nbsp\;To accomplish things we never thought were possible.&nbsp\;<br />\n<br />\nWe run. We jump. &nbsp\;We lift weights. &nbsp\;We build muscle. &nbsp\;Now help us be THEIR muscle.<br />\n<br />\nJoin us June 16th at Burn Boot Camp Glenview in the Nationwide Battle Against Muscular Dystrophy!<br />\n<br />\nRegistration starting at $25<br />\n- Includes a Be Their Muscle Shirt<br />\n- Co-ed Burn Boot Camp Workout<br />\n-Burn -A -Thon trainer workout<br />\n-Local event sponsors and activities<br />\n&nbsp\;
LOCATION:Burn Boot Camp Glenview 2715 Pfingsten Rd Glenview\, IL 60026
UID:e.434.9787
SEQUENCE:3
DTSTAMP:20260425T124535Z
URL:http://business.glenviewchamber.com/events/details/burn-boot-camp-be-their-muscle-mda-event-9787
END:VEVENT

END:VCALENDAR
