BEGIN:VCALENDAR
VERSION:2.0
PRODID:-//ChamberMaster//Event Calendar 2.0//EN
METHOD:PUBLISH
X-PUBLISHED-TTL:P3D
REFRESH-INTERVAL:P3D
CALSCALE:GREGORIAN
BEGIN:VEVENT
DTSTART:20180509T223000Z
DTEND:20180510T000000Z
X-MICROSOFT-CDO-ALLDAYEVENT:FALSE
SUMMARY:Business After Hours
DESCRIPTION:A monthly gathering that helps forge new business relationships and renew existing bonds\, Business After Hours rotates among Member businesses and provides a relaxed\, casual atmosphere.  This free event is an excellent opportunity to finish the business day in the company of fellow Members and grow your circle of contacts. Drop by to unwind and connect with your local business community\n\n **This event is open only to Chamber members and prospective Chamber members.**
X-ALT-DESC;FMTTYPE=text/html:<p><span style="font-family:&quot\;Arial&quot\;\,&quot\;sans-serif&quot\;\;color:#666666">A monthly gathering that helps forge new business relationships and renew existing bonds\, Business After Hours rotates among Member businesses and provides a relaxed\, casual atmosphere.&nbsp\; This free event is an excellent opportunity to finish the business day in the company of fellow Members and grow your circle of contacts. Drop by to unwind and connect with your local business<span class="apple-converted-space">&nbsp\;</span>community</span><span style="font-size: 10pt\; font-family: Arial\, sans-serif\;"><o:p></o:p></span></p>\n\n<p align="center" style="text-align: center\;"><span style="font-family:&quot\;Arial&quot\;\,&quot\;sans-serif&quot\;\;color:#666666">&#8203\;**</span><span font-size:="" ms="" sans=""><span style="font-size: 10pt\; font-family: Arial\, sans-serif\;">This</span><span class="apple-converted-space"><span font-size:="" ms="" sans="">&nbsp\;</span>event is open only to Chamber members and prospective Chamber members.**</span><o:p></o:p></span></p>\n
LOCATION:***** PLEASE NOTE NEW LOCATION BELOW Ten Ninety Brewing Company 1025 Waukegan Ave. Glenview
UID:e.434.7897
SEQUENCE:3
DTSTAMP:20260425T135809Z
URL:http://business.glenviewchamber.com/events/details/business-after-hours-05-09-2018-7897
END:VEVENT

END:VCALENDAR
