BEGIN:VCALENDAR
VERSION:2.0
PRODID:-//ChamberMaster//Event Calendar 2.0//EN
METHOD:PUBLISH
X-PUBLISHED-TTL:P3D
REFRESH-INTERVAL:P3D
CALSCALE:GREGORIAN
BEGIN:VEVENT
DTSTART:20180110T233000Z
DTEND:20180111T010000Z
X-MICROSOFT-CDO-ALLDAYEVENT:FALSE
SUMMARY:Business After Hours Honoring Business & Business Person of the Year
DESCRIPTION:A special Business After Hours \n\n	2018 Board Installation of Karen Patterson as the President of the Glenview Chamber of Commerce along with new Board Members.\n	2018 Business of the Year \n\n	Carriage Hill Kennels\n	Business Person of the Year for 2018 \n\n	Sheridan Turner\, Kohl Children's Museum of Greater Chicago
X-ALT-DESC;FMTTYPE=text/html:<span style="font-family:times new roman\;"><strong><span style="color:#008080\;"><span style="font-size:12px\;"><span style="line-height: 20.7999992370605px\;">A special Business After Hours&nbsp\;</span></span></span></strong></span>\n<ul>\n	<li><span style="font-family:times new roman\;"><span style="font-size:12px\;">2018&nbsp\;Board Installation of Karen Patterson as the President of the Glenview Chamber of Commerce along with new Board Members.</span></span></li>\n	<li><span style="font-family:times new roman\;"><span style="font-size:12px\;"><u><span style="color:black\;">2018&nbsp\;Business of the Year</span></u>&nbsp\;<br />\n	<font color="#000000"><b><i>Carriage Hill Kennels</i></b></font></span></span></li>\n	<li><span style="font-family:times new roman\;"><span style="font-size:12px\;"><u><span style="color:black\;">Business Person of the Year for 2018 </span></u><br />\n	<strong><em><span style="color:black\;">Sheridan Turner\, Kohl Children&#39\;s Museum of Greater Chicago</span></em></strong></span></span></li>\n</ul>\n
LOCATION:Glenview Terrace 1511 Greenwood Rd\, Glenview
UID:e.434.8026
SEQUENCE:3
DTSTAMP:20260425T190741Z
URL:http://business.glenviewchamber.com/events/details/business-after-hours-honoring-business-business-person-of-the-year-8026
END:VEVENT

END:VCALENDAR
