BEGIN:VCALENDAR
VERSION:2.0
PRODID:-//ChamberMaster//Event Calendar 2.0//EN
METHOD:PUBLISH
X-PUBLISHED-TTL:P3D
REFRESH-INTERVAL:P3D
CALSCALE:GREGORIAN
BEGIN:VEVENT
DTSTART;VALUE=DATE:20171201
DTEND;VALUE=DATE:20171202
TRANSP:TRANSPARENT
X-MICROSOFT-CDO-ALLDAYEVENT:TRUE
SUMMARY:Business and Business Person of the Year Nomination Forms Due
DESCRIPTION:The Glenview Chamber invites you to participate in selecting a Business Person and Business of the Year for 2017.  The nominees will be reviewed by the Chamber's Executive Board.  The deadline for applications is Friday\, December 1st 2017.  Please email to betsy@glenviewchamber.com or mail to Glenview Chamber\, 2222 Chestnut\, Suite 100\, Glenview 60026 or fax 847.724.0202\n\n \n\nDesigned to recognize one business and/or one person who have made a significant impact on the Glenview Community.  These awards showcase the people  and businesses that keep Glenview strong and vibrant.  The following represents the criteria set by the selection committee for choosing the recipient.\n\n\n\nCriteria\n\n  It is recommended that the company or individual be a Chamber member for at least two years.  \n\n  Achievements should have a positive effect on the quality of life with Glenview\n\n  Involvement in community service through business\, civic\, philanthropic affiliation or support.\n\n  Demonstrated dedication to providing excellent service and/or merchandise.\n\n\n\nA brief written statement must be included addressing the above criteria and detailing the Company or person's past accomplishments and their dedication to service and or merchandise.\n\n\n\nClick here to download the form.
X-ALT-DESC;FMTTYPE=text/html:<p><span style="language:en-US\;"><span style="font-family:times new roman\;"><span style="font-size:12.0pt\;">The Glenview Chamber invites you to participate in selecting a Business Person and Business of the Year for 2017.&nbsp\; The nominees will be reviewed by the Chamber&rsquo\;s Executive Board.&nbsp\; The deadline for applications is Friday\, December 1</span></span></span><span style="language:en-US\;"><span style="font-family:times new roman\;"><span style="font-size:7.9919pt\;"><sup>st</sup></span></span></span><span style="language:en-US\;"><span style="font-family:times new roman\;"><span style="font-size:12.0pt\;"> 2017.&nbsp\; Please email to </span></span></span><a href="mailto:betsy@glenviewchamber.com"><span style="font-family:times new roman\;"><span style="font-size:12pt\;">betsy@glenviewchamber.com</span></span></a><span style="language:en-US\;"><span style="font-family:times new roman\;"><span style="font-size:12.0pt\;"> or mail to</span></span></span><span style="font-family:times new roman\;"><span style="font-size:12pt\;"> Glenview Chamber\, 2222 Chestnut\, Suite 100\, Glenview 60026</span></span><span style="language:en-US\;"><span style="font-family:times new roman\;"><span style="font-size:12.0pt\;"> or fax </span></span></span><span style="font-family:times new roman\;"><span style="font-size:12pt\;">847.724.0202</span></span><br />\n&nbsp\;</p>\n\n<p><span style="language:en-US\;"><span style="font-family:times new roman\;"><span style="font-size:12.0pt\;">Designed to recognize one business and/or one person who have made a significant impact on the Glenview Community.&nbsp\; These awards showcase the people&nbsp\; and businesses that keep Glenview strong and vibrant.&nbsp\; The following represents the criteria set by the selection committee for choosing the recipient.</span></span></span></p>\n\n<p><br />\n<span style="font-weight:bold\;language:en-US\;"><span style="font-family:times new roman\;"><span style="font-size:12.0pt\;">Criteria</span></span></span><br />\n<span style="direction:ltr\;unicode-bidi:embed\;language:x-none\;"><span style="color:black\;"><span style="font-size:12.0pt\;"><span style="font-family:symbol\;">&middot\;</span></span></span></span>&nbsp\;<span style="language:en-US\;"><span style="font-family:times new roman\;"><span style="font-size:12.0pt\;">It is recommended that the company or individual be a Chamber member for at least two years.&nbsp\; </span></span></span><br />\n<span style="direction:ltr\;unicode-bidi:embed\;language:x-none\;"><span style="color:black\;"><span style="font-size:12.0pt\;"><span style="font-family:symbol\;">&middot\;</span></span></span></span>&nbsp\;<span style="language:en-US\;"><span style="font-family:times new roman\;"><span style="font-size:12.0pt\;">Achievements should have a positive effect on the quality of life with Glenview</span></span></span><br />\n<span style="direction:ltr\;unicode-bidi:embed\;language:x-none\;"><span style="color:black\;"><span style="font-size:12.0pt\;"><span style="font-family:symbol\;">&middot\;</span></span></span></span>&nbsp\;<span style="language:en-US\;"><span style="font-family:times new roman\;"><span style="font-size:12.0pt\;">Involvement in community service through business\, civic\, philanthropic affiliation or support.</span></span></span><br />\n<span style="direction:ltr\;unicode-bidi:embed\;language:x-none\;"><span style="color:black\;"><span style="font-size:12.0pt\;"><span style="font-family:symbol\;">&middot\;</span></span></span></span>&nbsp\;<span style="language:en-US\;"><span style="font-family:times new roman\;"><span style="font-size:12.0pt\;">Demonstrated dedication to providing excellent service and/or merchandise.</span></span></span></p>\n\n<p><br />\n<span style="font-weight:bold\;"><span style="font-family:times new roman\;"><span style="font-size:12pt\;">A brief written statement must be included addressing the above criteria and detailing the Company or person&rsquo\;s past accomplishments and their dedication to service and or merchandise.</span></span></span><br />\n<br />\n<a href="https://chambermaster.blob.core.windows.net/userfiles/UserFiles/chambers/434/File/NominationForm2017.pdf">Click here</a> to download the form.&nbsp\;</p>\n
LOCATION:
UID:e.434.7326
SEQUENCE:3
DTSTAMP:20260425T204038Z
URL:http://business.glenviewchamber.com/events/details/business-and-business-person-of-the-year-nomination-forms-due-7326
END:VEVENT

END:VCALENDAR
