BEGIN:VCALENDAR
VERSION:2.0
PRODID:-//ChamberMaster//Event Calendar 2.0//EN
METHOD:PUBLISH
X-PUBLISHED-TTL:P3D
REFRESH-INTERVAL:P3D
CALSCALE:GREGORIAN
BEGIN:VEVENT
DTSTART:20170921T123000Z
DTEND:20170921T140000Z
X-MICROSOFT-CDO-ALLDAYEVENT:FALSE
SUMMARY:Business Executive Roundtable
DESCRIPTION:The Business Executive Roundtable will gather business owners to discuss a video\, a book summary or an article that reflects best practices related to the discussion topic. When you register for the Event through the Glenview Chamber you will receive the links and materials for the discussion.  \n\nCome to learn. \n\nCome to share. \n\nCome to be challenged by other business owners.\n\nTOPIC: Creating Passive Income\n\nClick Here for Article #1 The Automatic Customer\n\nClick Here Audio/Video #1 The Automatic Customer
X-ALT-DESC;FMTTYPE=text/html:The Business Executive Roundtable will gather business owners to discuss a video\, a book summary or an article that reflects best practices related to the discussion topic.&nbsp\;When you register for the Event through the Glenview Chamber you will receive the links and materials for the discussion. &nbsp\;<br />\n<span style="font-size:14px\;"><span style="color:#008080\;"><em>Come to learn.&nbsp\;<br />\nCome to share.&nbsp\;<br />\nCome to be challenged by other business owners.</em></span></span><br />\n<u><span style="font-family:calibri\,sans-serif\;"><span style="font-size:11.0pt\;">TOPIC: <strong>Creating Passive Income</strong></span></span></u><br />\n<span style="font-size:14px\;"><span style="color:#008080\;"><em><a href="https://chambermaster.blob.core.windows.net/userfiles/UserFiles/chambers/434/File/2017_Executive_Roundtable/2017-09TheAutomaticCustomer.pdf">Click Here for Article #1</a>&nbsp\;The Automatic Customer<br />\n<a href="https://chambermaster.blob.core.windows.net/userfiles/UserFiles/chambers/434/File/2017_Executive_Roundtable/2017-09TheAutomaticCustomer.mp4">Click Here Audio/Video #1</a>&nbsp\;</em></span></span><em style="color: rgb(0\, 128\, 128)\; font-size: 14px\;">The Automatic Customer</em><br />\n&nbsp\;
LOCATION:Glenview Park Center 2400 Chestnut Ave. Room 203
UID:e.434.6717
SEQUENCE:3
DTSTAMP:20260426T001516Z
URL:http://business.glenviewchamber.com/events/details/business-executive-roundtable-09-21-2017-6717
END:VEVENT

END:VCALENDAR
