BEGIN:VCALENDAR
VERSION:2.0
PRODID:-//ChamberMaster//Event Calendar 2.0//EN
METHOD:PUBLISH
X-PUBLISHED-TTL:P3D
REFRESH-INTERVAL:P3D
CALSCALE:GREGORIAN
BEGIN:VEVENT
DTSTART:20171019T123000Z
DTEND:20171019T140000Z
X-MICROSOFT-CDO-ALLDAYEVENT:FALSE
SUMMARY:Business Executive Roundtable
DESCRIPTION:The Business Executive Roundtable will gather business owners to discuss a video\, a book summary or an article that reflects best practices related to the discussion topic. When you register for the Event through the Glenview Chamber you will receive the links and materials for the discussion.  \n\nCome to learn. \n\nCome to share. \n\nCome to be challenged by other business owners.\n\nTOPIC: Leadership vs. Management\n\nClick Here for Article #1 Conversational Intelligence\n\nClick Here For Article #2 Leaders Eat Last\n\nClick Here Audio/Video #1 Conversational Intelligence\n\nClick Here For Audio/Video #2 Leaders Eat Last
X-ALT-DESC;FMTTYPE=text/html:The Business Executive Roundtable will gather business owners to discuss a video\, a book summary or an article that reflects best practices related to the discussion topic.&nbsp\;When you register for the Event through the Glenview Chamber you will receive the links and materials for the discussion. &nbsp\;<br />\n<span style="font-size:14px\;"><span style="color:#008080\;"><em>Come to learn.&nbsp\;<br />\nCome to share.&nbsp\;<br />\nCome to be challenged by other business owners.</em></span></span><br />\n<u><span style="font-family:calibri\,sans-serif\;"><span style="font-size:11.0pt\;">TOPIC: Leadership vs. Management</span></span></u><br />\n<span style="font-size:14px\;"><em><a href="https://chambermaster.blob.core.windows.net/userfiles/UserFiles/chambers/434/File/2017_Executive_Roundtable/2017-10ConversationalIntelligence.pdf"><span style="color:#0000FF\;">Click Here for Article #1</span></a></em><span style="color:#008080\;"><em>&nbsp\;Conversational Intelligence</em></span><br />\n<em><a href="https://chambermaster.blob.core.windows.net/userfiles/UserFiles/chambers/434/File/2017-10LeadersEatLast.pdf"><span style="color:#0000FF\;">Click Here For Article #2</span></a></em><span style="color:#008080\;"><em><a href="https://chambermaster.blob.core.windows.net/userfiles/UserFiles/chambers/434/File/2017_Executive_Roundtable/2017-10LeadersEatLast.pdf">&nbsp\;</a>Leaders Eat Last</em></span><br />\n<em><a href="https://chambermaster.blob.core.windows.net/userfiles/UserFiles/chambers/434/File/2017_Executive_Roundtable/2017-10ConversationalIntelligence.mp4"><span style="color:#0000FF\;">Click Here Audio/Video #1</span></a></em><span style="color:#008080\;"><em>&nbsp\;</em></span></span><em style="color: rgb(0\, 128\, 128)\; font-size: 14px\;">Conversational Intelligence</em><br />\n<a href="https://chambermaster.blob.core.windows.net/userfiles/UserFiles/chambers/434/File/2017_Executive_Roundtable/2017-10LeadersEatLast.mp4"><span style="color:#0000FF\;"><span style="font-size:14px\;"><em>Click Here For Audio/Video #2</em></span></span></a>&nbsp\;<font color="#008080"><span style="font-size: 14px\;"><i>Leaders Eat Last</i></span></font>
LOCATION:Glenview Park Center 2400 Chestnut Ave. Room 203
UID:e.434.6718
SEQUENCE:3
DTSTAMP:20260425T225003Z
URL:http://business.glenviewchamber.com/events/details/business-executive-roundtable-10-19-2017-6718
END:VEVENT

END:VCALENDAR
