BEGIN:VCALENDAR
VERSION:2.0
PRODID:-//ChamberMaster//Event Calendar 2.0//EN
METHOD:PUBLISH
X-PUBLISHED-TTL:P3D
REFRESH-INTERVAL:P3D
CALSCALE:GREGORIAN
BEGIN:VEVENT
DTSTART:20180118T133000Z
DTEND:20180118T150000Z
X-MICROSOFT-CDO-ALLDAYEVENT:FALSE
SUMMARY:Business Executive Roundtable
DESCRIPTION:The Business Executive Roundtable will gather business owners to discuss a video\, a book summary or an article that reflects best practices related to the discussion topic. When you register for the Event through the Glenview Chamber you will receive the links and materials for the discussion.  \n\nCome to learn. \n\nCome to share. \n\nCome to be challenged by other business owners.\n\nTOPIC: Goal Setting\n\nHomework - \n\nReading:  https://jamesclear.com/goal-setting\n\n \n\n24 minute video:  https://www.youtube.com/watch?v=g2S2mhOisso
X-ALT-DESC;FMTTYPE=text/html:The Business Executive Roundtable will gather business owners to discuss a video\, a book summary or an article that reflects best practices related to the discussion topic.&nbsp\;When you register for the Event through the Glenview Chamber you will receive the links and materials for the discussion. &nbsp\;<br />\n<span style="font-size:14px\;"><span style="color:#008080\;"><em>Come to learn.&nbsp\;<br />\nCome to share.&nbsp\;<br />\nCome to be challenged by other business owners.</em></span></span><br />\n<strong><u><span style="font-family:calibri\,sans-serif\;"><span style="font-size:11.0pt\;">TOPIC: Goal Setting</span></span></u><br />\n<span style="font-size:14px\;"><span style="color:#008080\;"><em>Homework - </em></span></span></strong><br />\nReading:&nbsp\; <a href="https://jamesclear.com/goal-setting">https://jamesclear.com/goal-setting</a><br />\n&nbsp\;<br />\n<span style="font-family:calibri\,sans-serif\;"><span style="font-size:11.0pt\;">24 minute video:&nbsp\; <a href="https://www.youtube.com/watch?v=g2S2mhOisso">https://www.youtube.com/watch?v=g2S2mhOisso</a></span></span><br />\n<br />\n<br />\n&nbsp\;
LOCATION:Glenview Park Center 2400 Chestnut Ave. Room 203
UID:e.434.7615
SEQUENCE:3
DTSTAMP:20260425T190252Z
URL:http://business.glenviewchamber.com/events/details/business-executive-roundtable-7615
END:VEVENT

END:VCALENDAR
