BEGIN:VCALENDAR
VERSION:2.0
PRODID:-//ChamberMaster//Event Calendar 2.0//EN
METHOD:PUBLISH
X-PUBLISHED-TTL:P3D
REFRESH-INTERVAL:P3D
CALSCALE:GREGORIAN
BEGIN:VEVENT
DTSTART:20170724T220000Z
DTEND:20170725T003000Z
X-MICROSOFT-CDO-ALLDAYEVENT:FALSE
SUMMARY:Business EXPO - Multi-Chamber
DESCRIPTION:Northbrook\, Glenview\, Northfield\, Bannockburn\, & Riverwoods Chambers present:\n\nBUSINESS EXPO & After Hours
X-ALT-DESC;FMTTYPE=text/html:Northbrook\, Glenview\, Northfield\, Bannockburn\, &amp\; Riverwoods Chambers present:<br />\n<span style="font-size:14px\;"><strong>BUSINESS EXPO &amp\; After Hours</strong></span>
LOCATION:Hilton Chicago Northbrook (2855 N. Milwaukee Ave.\, Northbrook)
UID:e.434.6835
SEQUENCE:3
DTSTAMP:20260426T030522Z
URL:http://business.glenviewchamber.com/events/details/business-expo-multi-chamber-6835
END:VEVENT

END:VCALENDAR
