BEGIN:VCALENDAR
VERSION:2.0
PRODID:-//ChamberMaster//Event Calendar 2.0//EN
METHOD:PUBLISH
X-PUBLISHED-TTL:P3D
REFRESH-INTERVAL:P3D
CALSCALE:GREGORIAN
BEGIN:VEVENT
DTSTART:20180723T220000Z
DTEND:20180724T003000Z
X-MICROSOFT-CDO-ALLDAYEVENT:FALSE
SUMMARY:Business EXPO - Multi-Chamber
DESCRIPTION:CLICK HERE TO DOWNLOAD APPLICATION or CLICK REGISTER NOW ABOVE TO REGISTER AS AN EXHIBITOR NOW.\n\nNorthbrook\, Glenview\, Northfield\, Bannockburn\, & Riverwoods Chambers present:\n\nBUSINESS EXPO & After Hours
X-ALT-DESC;FMTTYPE=text/html:<span style="font-size:18px\;"><span style="color:#B22222\;"><strong><a href="https://chambermaster.blob.core.windows.net/userfiles/UserFiles/chambers/434/File/Expo/NorthbrookChamberExpo-2018-REGISTRATIONFORM-Glenview.pdf">CLICK HERE TO DOWNLOAD APPLICATION</a>&nbsp\;or CLICK REGISTER NOW ABOVE TO REGISTER AS AN EXHIBITOR NOW.</strong></span></span><br />\nNorthbrook\, Glenview\, Northfield\, Bannockburn\, &amp\; Riverwoods Chambers present:<br />\n<span style="font-size:14px\;"><strong>BUSINESS EXPO &amp\; After Hours</strong></span>
LOCATION:Hilton Chicago Northbrook (2855 N. Milwaukee Ave.\, Northbrook)
UID:e.434.8699
SEQUENCE:3
DTSTAMP:20260425T112224Z
URL:http://business.glenviewchamber.com/events/details/business-expo-multi-chamber-8699
END:VEVENT

END:VCALENDAR
