BEGIN:VCALENDAR
VERSION:2.0
PRODID:-//ChamberMaster//Event Calendar 2.0//EN
METHOD:PUBLISH
X-PUBLISHED-TTL:P3D
REFRESH-INTERVAL:P3D
CALSCALE:GREGORIAN
BEGIN:VEVENT
DTSTART:20180413T164500Z
DTEND:20180413T180000Z
X-MICROSOFT-CDO-ALLDAYEVENT:FALSE
SUMMARY:Business Roundtable
DESCRIPTION:Business Roundtable brings together a variety of business professionals on a different topic each month.  \n\nReview the videos and/or reading materials\, then come together in a roundtable forum .\n\n to learn\n\n to share\n\n to be challenged by other business owners. \n\n \n\nFacilitated by: Business Coach PJ Weiland and Life Coach Sue Blue.\n\nSpring Cleanup   Declutter your Mind\, and your Workspace\n\nHomework: \n\nhttps://www.huffingtonpost.com/entry/14-ways-to-spring-clean-your-business-operations_us_58af5106e4b02f3f81e44554\n\nhttps://www.youtube.com/watch?v=xLavTMNqQwE\n\n \n\nBring your lunch.
X-ALT-DESC;FMTTYPE=text/html:<p>Business Roundtable brings together a variety of business professionals on a different topic each month.&nbsp\;&nbsp\;<br />\nReview the videos and/or reading materials\, then come together in a roundtable forum&hellip\;.<br />\n&hellip\;to learn<br />\n&hellip\;to share<br />\n&hellip\;to be challenged by other business owners.&nbsp\;<br />\n&nbsp\;<br />\nFacilitated by: Business Coach PJ Weiland and Life Coach Sue Blue.</p>\n\n<p>Spring Cleanup &ndash\; Declutter your Mind\, and your Workspace<br />\nHomework:&nbsp\;<br />\n<a href="https://www.huffingtonpost.com/entry/14-ways-to-spring-clean-your-business-operations_us_58af5106e4b02f3f81e44554">https://www.huffingtonpost.com/entry/14-ways-to-spring-clean-your-business-operations_us_58af5106e4b02f3f81e44554</a><br />\n<span style="font-family:calibri\,sans-serif\;"><span style="font-size:11.0pt\;"><a href="https://www.youtube.com/watch?v=xLavTMNqQwE">https://www.youtube.com/watch?v=xLavTMNqQwE<br />\n&#8203\;</a></span></span></p>\n\n<p><strong><em><span style="font-family:calibri\,sans-serif\;"><span style="font-size:11.0pt\;">Bring your lunch.&nbsp\;</span></span></em></strong></p>\n
LOCATION:Glenview Park Center 2400 Chestnut Ave. Room 203
UID:e.434.7618
SEQUENCE:3
DTSTAMP:20260425T162535Z
URL:http://business.glenviewchamber.com/events/details/business-roundtable-04-13-2018-7618
END:VEVENT

END:VCALENDAR
