BEGIN:VCALENDAR
VERSION:2.0
PRODID:-//ChamberMaster//Event Calendar 2.0//EN
METHOD:PUBLISH
X-PUBLISHED-TTL:P3D
REFRESH-INTERVAL:P3D
CALSCALE:GREGORIAN
BEGIN:VEVENT
DTSTART:20180309T174500Z
DTEND:20180309T190000Z
X-MICROSOFT-CDO-ALLDAYEVENT:FALSE
SUMMARY:Business Roundtable
DESCRIPTION:Business Roundtable brings together a variety of business professionals on a different topic each month.  \n\nReview the videos and/or reading materials\, then come together in a roundtable forum .\n\n to learn\n\n to share\n\n to be challenged by other business owners. \n\n \n\nFacilitated by: Business Coach PJ Weiland and Life Coach Sue Blue.\n\nTopic: March Forward   Keeping your Momentum\n\nHomework: \n\nhttps://www.youtube.com/watch?v=vjNly2hNGfI\n\nhttp://selfmadesuccess.com/how-to-create-unstoppable-momentum-in-business/\n\nBring your own lunch.
X-ALT-DESC;FMTTYPE=text/html:<p>Business Roundtable brings together a variety of business professionals on a different topic each month.&nbsp\;&nbsp\;</p>\n\n<p>Review the videos and/or reading materials\, then come together in a roundtable forum&hellip\;.<br />\n&hellip\;to learn<br />\n&hellip\;to share<br />\n&hellip\;to be challenged by other business owners.&nbsp\;<br />\n&nbsp\;<br />\nFacilitated by: Business Coach PJ Weiland and Life Coach Sue Blue.<br />\nTopic:&nbsp\;March Forward &ndash\; Keeping your Momentum<br />\nHomework:&nbsp\;<br />\n<a href="https://www.youtube.com/watch?v=vjNly2hNGfI">https://www.youtube.com/watch?v=vjNly2hNGfI</a><br />\n<a href="http://selfmadesuccess.com/how-to-create-unstoppable-momentum-in-business/">http://selfmadesuccess.com/how-to-create-unstoppable-momentum-in-business/</a></p>\n\n<p><em><strong>Bring your own lunch.&nbsp\;</strong></em></p>\n
LOCATION:Glenview Park Center 2400 Chestnut Ave. Room 203
UID:e.434.7617
SEQUENCE:3
DTSTAMP:20260425T163251Z
URL:http://business.glenviewchamber.com/events/details/business-roundtable-7617
END:VEVENT

END:VCALENDAR
