BEGIN:VCALENDAR
VERSION:2.0
PRODID:-//ChamberMaster//Event Calendar 2.0//EN
METHOD:PUBLISH
X-PUBLISHED-TTL:P3D
REFRESH-INTERVAL:P3D
CALSCALE:GREGORIAN
BEGIN:VEVENT
DTSTART:20251129T220000Z
DTEND:20251130T000000Z
X-MICROSOFT-CDO-ALLDAYEVENT:FALSE
SUMMARY:CANCELED- Holiday in the Park & Parade
DESCRIPTION:****** CANCELED ********\n\n\n\nJoin us as we kick-off the holiday season with our annual Holiday in the Park & Parade!  Follow the parade down Glenview Road from Our Lady of Perpetual Help (OLPH) Church going west to Jackman Park\, 1011 Lehigh Avenue\, Glenview.  Festivities in the park include a visit with Santa\, hay rides\, a train ride for kids\, carolers\, cookies\, hot chocolate and popcorn. Special thanks to GVTV for making this video from the 2022 parade: https://www.youtube.com/watch?v=OK4uvHrnOB8 \n\nFREE parking for this event at Glenview Metra Station\, 1116 Depot Street\, Glenview.\n\n\n\nSponsors: Busey Bank\, Compass Real Estate\, Endeavor Health- Glenbrook Hospital\, Glenview Park District\, Lakefront Creative Group\, Northern Power Washing\, BOHNHOMES Residential (Compass)\, RJBullion\, Medline\n\n\n\nNote: If you are participating in the parade\, please report to the OLPH parking lot at 1775 Grove Street\, Glenview at 3:30 pm. FREE parking in the Metra lot at: 1116 Depot Street\, Glenview.\n\n\n\nParade participant form is closed.
X-ALT-DESC;FMTTYPE=text/html:<p><span style="font-family:verdana\;"><span style="font-size:16px\;">****** CANCELED ********<br />\n<br />\nJoin us as we kick-off&nbsp\;the holiday season with our annual Holiday in the Park &amp\; Parade!&nbsp\; Follow the parade down Glenview Road from Our Lady of Perpetual Help (OLPH) Church going west to Jackman Park\, 1011 Lehigh Avenue\, Glenview.&nbsp\; Festivities in the park include a visit with Santa\, hay rides\, a train ride for kids\, carolers\, cookies\, hot chocolate and popcorn. Special thanks to GVTV for making this video from the 2022&nbsp\;parade:&nbsp\;<a href="https://www.youtube.com/watch?v=OK4uvHrnOB8">https://www.youtube.com/watch?v=OK4uvHrnOB8</a>&nbsp\;</span></span></p>\n\n<p><span style="font-size:16px\;"><span style="font-family:verdana\;">FREE parking for this event at Glenview Metra Station\, 1116 Depot Street\, Glenview.<br />\n<br />\nSponsors: </span></span><span style="font-family: verdana\; font-size: 16px\;">Busey Bank\, Compass Real Estate\, Endeavor Health- Glenbrook Hospital\, Glenview Park District\, Lakefront Creative Group\,&nbsp\;Northern Power Washing\, BOHNHOMES Residential (Compass)\,&nbsp\;RJBullion\, Medline</span><br />\n<br />\n<span style="font-family: verdana"><span style="font-size: 16px"><strong>Note: If you are participating in the parade\, please report to the OLPH parking lot at 1775 Grove Street\, Glenview at 3:30 pm. FREE parking in the Metra lot at: 1116 Depot Street\, Glenview.<br />\n<br />\nParade participant form is closed.</strong></span></span></p>\n
LOCATION:Jackman Park 1011 Lehigh Ave. Glenview FREE parking available in Glenview Metra Station\, 1116 Depot Street
UID:e.434.7757
SEQUENCE:3
DTSTAMP:20260422T191740Z
URL:http://business.glenviewchamber.com/events/details/canceled-holiday-in-the-park-parade-7757
END:VEVENT

END:VCALENDAR
