BEGIN:VCALENDAR
VERSION:2.0
PRODID:-//ChamberMaster//Event Calendar 2.0//EN
METHOD:PUBLISH
X-PUBLISHED-TTL:P3D
REFRESH-INTERVAL:P3D
CALSCALE:GREGORIAN
BEGIN:VEVENT
DTSTART:20190219T174500Z
DTEND:20190219T191500Z
X-MICROSOFT-CDO-ALLDAYEVENT:FALSE
SUMMARY:CANCELED - Lunch & Learn
DESCRIPTION:CANCELED \n\nThe Lunch and Learn Series will be conducted by local business experts\, Chamber board members and our Chamber partners. The series will feature a wide variety of topics that are helpful for anyone involved with a business\, from owners and managers to entry-level employees.
X-ALT-DESC;FMTTYPE=text/html:CANCELED&nbsp\;<br />\n<span style="font-family: 'Helvetica Neue'\, Helvetica\, Arial\, sans-serif\; font-size: 14px\; line-height: 24px\;">The Lunch and Learn Series will be conducted by local business experts\, Chamber board members and our Chamber partners. The series will feature a wide variety of topics that are helpful for anyone involved with a business\, from owners and managers to entry-level employees.&nbsp\;</span>
LOCATION:Topic: Fitness Training and Recovery: Interval Training the F45 Way/Recovery with Apex Cryotherapy Location: F45 Training 2300 Lehigh Ave #100 Glenview\, IL 60025
UID:e.434.8068
SEQUENCE:3
DTSTAMP:20260425T034718Z
URL:http://business.glenviewchamber.com/events/details/canceled-lunch-learn-8068
END:VEVENT

END:VCALENDAR
