BEGIN:VCALENDAR
VERSION:2.0
PRODID:-//ChamberMaster//Event Calendar 2.0//EN
METHOD:PUBLISH
X-PUBLISHED-TTL:P3D
REFRESH-INTERVAL:P3D
CALSCALE:GREGORIAN
BEGIN:VEVENT
DTSTART:20190123T174500Z
DTEND:20190123T190000Z
X-MICROSOFT-CDO-ALLDAYEVENT:FALSE
SUMMARY:CANCELED -- State of Healthcare
DESCRIPTION:CANCELED\n\nThe Health & Wellness Commitee Presents:\n\nState of Healthcare Educational Seminar\n\nSpeaker:  Jesse Peterson Hall\n\n\n\nTopic:  Update on Glenbrook Hospital and \n\nEnvironmental Trends in Healthcare\n\n\n\nGlenbrook Hospital President Jesse Peterson Hall will provide an update on clinical programs and facilities on the Glenbrook campus and throughout NorthShore University HealthSystem. He will also provide an overview of environmental trends in healthcare. \n\n\n\nAttendee Value and Takeaways:\n Understand what is happening at Glenbrook Hospital and NorthShore University HealthSystem\n\n Learn about trends in the healthcare sector
X-ALT-DESC;FMTTYPE=text/html:<span style="color:#FF0000\;"><strong>CANCELED</strong></span><br />\n<strong><span style="font-family:times new roman\;">The Health &amp\; Wellness Commitee Presents:<br />\nState of Healthcare Educational Seminar<br />\nSpeaker:&nbsp\; Jesse Peterson Hall</span></strong><br />\n<br />\n<span style="color:#000000\;"><span style="letter-spacing:-.15pt\;language:en-US\;font-weight:bold\;font-style:italic\;"><span style="font-family:arial\;"><span style="font-size:12.0pt\;">Top</span></span></span><span style="letter-spacing:0pt\;language:en-US\;font-weight:bold\;font-style:italic\;"><span style="font-family:arial\;"><span style="font-size:12.0pt\;">i</span></span></span><span style="letter-spacing:-.1pt\;language:en-US\;font-weight:bold\;font-style:italic\;"><span style="font-family:arial\;"><span style="font-size:12.0pt\;">c</span></span></span><span style="letter-spacing:-.05pt\;language:en-US\;font-style:italic\;"><span style="font-family:arial\;"><span style="font-size:12.0pt\;">:</span></span></span> &nbsp\;<span style="letter-spacing:-.1pt\;language:en-US\;font-weight:bold\;font-style:italic\;"><span style="font-family:arial\;"><span style="font-size:12.0pt\;">Update on Glenbrook Hospital and </span></span></span><br />\n<span style="letter-spacing:-.1pt\;language:en-US\;font-weight:bold\;font-style:italic\;"><span style="font-family:arial\;"><span style="font-size:12.0pt\;">Environmental Trends in Healthcare</span></span></span></span><br />\n<br />\n<span style="letter-spacing:-.05pt\;language:en-US\;"><span style="color:black\;"><span style="font-family:cambria\;"><span style="font-size:12.0pt\;">Glenbrook Hospital President Jesse Peterson Hall will provide an update on clinical programs and facilities on the Glenbrook campus and throughout NorthShore University HealthSystem</span></span></span></span><span style="letter-spacing:-.05pt\;language:en-US\;"><span style="color:black\;"><span style="font-family:cambria\;"><span style="font-size:12.0pt\;">.</span></span></span></span><span style="letter-spacing:-.05pt\;language:en-US\;"><span style="color:black\;"><span style="font-family:cambria\;"><span style="font-size:12.0pt\;"> He will also provide an overview of environmental trends in healthcare. </span></span></span></span><br />\n<br />\n<span style="letter-spacing:-.1pt\;language:en-US\;font-weight:bold\;"><span style="color:black\;"><span style="font-family:cambria\;"><span style="font-size:12.0pt\;">A</span></span></span></span><span style="language:en-US\;font-weight:bold\;"><span style="color:black\;"><span style="font-family:cambria\;"><span style="font-size:12.0pt\;">tt</span></span></span></span><span style="letter-spacing:-.1pt\;language:en-US\;font-weight:bold\;"><span style="color:black\;"><span style="font-family:cambria\;"><span style="font-size:12.0pt\;">e</span></span></span></span><span style="letter-spacing:-.15pt\;language:en-US\;font-weight:bold\;"><span style="color:black\;"><span style="font-family:cambria\;"><span style="font-size:12.0pt\;">n</span></span></span></span><span style="letter-spacing:-.1pt\;language:en-US\;font-weight:bold\;"><span style="color:black\;"><span style="font-family:cambria\;"><span style="font-size:12.0pt\;">dee</span></span></span></span> <span style="letter-spacing:-.15pt\;language:en-US\;font-weight:bold\;"><span style="color:black\;"><span style="font-family:cambria\;"><span style="font-size:12.0pt\;">V</span></span></span></span><span style="letter-spacing:-.05pt\;language:en-US\;font-weight:bold\;"><span style="color:black\;"><span style="font-family:cambria\;"><span style="font-size:12.0pt\;">a</span></span></span></span><span style="letter-spacing:-.1pt\;language:en-US\;font-weight:bold\;"><span style="color:black\;"><span style="font-family:cambria\;"><span style="font-size:12.0pt\;">lue</span></span></span></span> <span style="letter-spacing:-.05pt\;language:en-US\;font-weight:bold\;"><span style="color:black\;"><span style="font-family:cambria\;"><span style="font-size:12.0pt\;">a</span></span></span></span><span style="letter-spacing:-.15pt\;language:en-US\;font-weight:bold\;"><span style="color:black\;"><span style="font-family:cambria\;"><span style="font-size:12.0pt\;">n</span></span></span></span><span style="letter-spacing:-.1pt\;language:en-US\;font-weight:bold\;"><span style="color:black\;"><span style="font-family:cambria\;"><span style="font-size:12.0pt\;">d</span></span></span></span> <span style="letter-spacing:-.2pt\;language:en-US\;font-weight:bold\;"><span style="color:black\;"><span style="font-family:cambria\;"><span style="font-size:12.0pt\;">T</span></span></span></span><span style="letter-spacing:-.05pt\;language:en-US\;font-weight:bold\;"><span style="color:black\;"><span style="font-family:cambria\;"><span style="font-size:12.0pt\;">a</span></span></span></span><span style="letter-spacing:-.15pt\;language:en-US\;font-weight:bold\;"><span style="color:black\;"><span style="font-family:cambria\;"><span style="font-size:12.0pt\;">k</span></span></span></span><span style="letter-spacing:-.1pt\;language:en-US\;font-weight:bold\;"><span style="color:black\;"><span style="font-family:cambria\;"><span style="font-size:12.0pt\;">e</span></span></span></span><span style="letter-spacing:-.05pt\;language:en-US\;font-weight:bold\;"><span style="color:black\;"><span style="font-family:cambria\;"><span style="font-size:12.0pt\;">a</span></span></span></span><span style="letter-spacing:-.1pt\;language:en-US\;font-weight:bold\;"><span style="color:black\;"><span style="font-family:cambria\;"><span style="font-size:12.0pt\;">w</span></span></span></span><span style="letter-spacing:-.05pt\;language:en-US\;font-weight:bold\;"><span style="color:black\;"><span style="font-family:cambria\;"><span style="font-size:12.0pt\;">ays</span></span></span></span><span style="letter-spacing:-.05pt\;language:en-US\;font-weight:bold\;"><span style="color:black\;"><span style="font-family:cambria\;"><span style="font-size:12.0pt\;">:</span></span></span></span>\n<div style="language:en-US\;line-height:normal\;margin-top:2.5pt\;margin-bottom:0pt\;margin-left:.51in\;text-indent:-.13in\;text-align:left\;direction:ltr\;unicode-bidi:embed\;word-break:normal\;punctuation-wrap:hanging\;"><span style="font-size:12.0pt\;"><span style="font-family:symbol\;">&middot\;</span></span><span style="letter-spacing:-.1pt\;language:en-US\;"><span style="color:black\;"><span style="font-family:cambria\;"><span style="font-size:12.0pt\;">Understand what is happening at Glenbrook Hospital and NorthShore University HealthSystem</span></span></span></span></div>\n\n<div style="language:en-US\;line-height:normal\;margin-top:1.8pt\;margin-bottom:0pt\;margin-left:.51in\;text-indent:-.13in\;text-align:left\;direction:ltr\;unicode-bidi:embed\;word-break:normal\;punctuation-wrap:hanging\;"><span style="font-size:12.0pt\;"><span style="font-size:92%\;"><span style="font-family:symbol\;">&middot\;</span></span></span><span style="letter-spacing:-.1pt\;language:en-US\;"><span style="color:black\;"><span style="font-family:cambria\;"><span style="font-size:12.0pt\;">Learn about trends in the healthcare sector</span></span></span></span></div>\n
LOCATION:NorthShore Glenbrook Hospital 2100 Pfingsten Road 1st floor\, Conference Rooms C and D Glenview Park in the parking lot closest to Pfingsten Road. Complimentary valet parking is available at that entrance. Enter via the Pfingsten Entrance and proceed down the hallway to the left. The meeting will be on the first floor\, in conference rooms C and D which will be on the left.
UID:e.434.10044
SEQUENCE:3
DTSTAMP:20260425T011337Z
URL:http://business.glenviewchamber.com/events/details/canceled-state-of-healthcare-10044
END:VEVENT

END:VCALENDAR
