BEGIN:VCALENDAR
VERSION:2.0
PRODID:-//ChamberMaster//Event Calendar 2.0//EN
METHOD:PUBLISH
X-PUBLISHED-TTL:P3D
REFRESH-INTERVAL:P3D
CALSCALE:GREGORIAN
BEGIN:VEVENT
DTSTART:20190130T233000Z
DTEND:20190131T010000Z
X-MICROSOFT-CDO-ALLDAYEVENT:FALSE
SUMMARY:CANCELED Young Professional Networking
DESCRIPTION:CANCELED DUE TO EXTREME WEATHER TEMPERATURES \n\nYoung Professionals of the Glenview Chamber\n\nJoin us for our 2019 Kickoff Business After Hours & Networking Event for the 45 and under crowd! \n\n\n\nPlease join us for our first Young Professionals Group (YPG) Networking of the year at North Branch Burger & Pizza Company at 4520 W. Lake Avenue. Free appetizers and cash bar for this event. We are excited to hear your 2019 professional goals and want to see how YPG can help you achieve these goals. Also\, we will be discussing volunteer opportunities for the 2019 Summer Food Drive and other exciting ways you can get involved.
X-ALT-DESC;FMTTYPE=text/html:<span style="color: rgb(76\, 76\, 83)\; font-family: AsapRegular\, Arial\, sans-serif\; font-size: 14px\;">CANCELED DUE TO EXTREME WEATHER TEMPERATURES&nbsp\;<br />\nYoung Professionals of the Glenview Chamber</span><br style="color: rgb(76\, 76\, 83)\; font-family: AsapRegular\, Arial\, sans-serif\; font-size: 14px\;" />\n<span style="color: rgb(76\, 76\, 83)\; font-family: AsapRegular\, Arial\, sans-serif\; font-size: 14px\;">Join us for our 2019 Kickoff Business After Hours &amp\; Networking Event for the 45 and under crowd!&nbsp\;</span><br />\n<br />\nPlease join us for our first Young Professionals Group (YPG) Networking of the year at North Branch Burger &amp\; Pizza Company at 4520 W. Lake Avenue. Free appetizers and cash bar for this event. We are excited to hear your 2019 professional goals and want to see how YPG can help you achieve these goals. Also\, we will be discussing volunteer opportunities for the 2019 Summer Food Drive and other exciting ways you can get involved.<br />\n&nbsp\;
LOCATION:North Branch Burger & Pizza Company 4520 W. Lake Avenue
UID:e.434.10046
SEQUENCE:3
DTSTAMP:20260425T034728Z
URL:http://business.glenviewchamber.com/events/details/canceled-young-professional-networking-10046
END:VEVENT

END:VCALENDAR
