BEGIN:VCALENDAR
VERSION:2.0
PRODID:-//ChamberMaster//Event Calendar 2.0//EN
METHOD:PUBLISH
X-PUBLISHED-TTL:P3D
REFRESH-INTERVAL:P3D
CALSCALE:GREGORIAN
BEGIN:VEVENT
DTSTART:20171214T133000Z
DTEND:20171214T150000Z
X-MICROSOFT-CDO-ALLDAYEVENT:FALSE
SUMMARY:CANCELLED-Business Executive Roundtable
DESCRIPTION:The Business Executive Roundtable will gather business owners to discuss a video\, a book summary or an article that reflects best practices related to the discussion topic. When you register for the Event through the Glenview Chamber you will receive the links and materials for the discussion.  \n\nCome to learn. \n\nCome to share. \n\nCome to be challenged by other business owners.\n\nTOPIC:    Sales\, Sales\, Sales\n\nClick Here for Article #1 The Challenger Sale\n\nClick Here for Article #2 The Challenger Sale
X-ALT-DESC;FMTTYPE=text/html:The Business Executive Roundtable will gather business owners to discuss a video\, a book summary or an article that reflects best practices related to the discussion topic.&nbsp\;When you register for the Event through the Glenview Chamber you will receive the links and materials for the discussion. &nbsp\;<br />\n<span style="font-size:14px\;"><span style="color:#008080\;"><em>Come to learn.&nbsp\;<br />\nCome to share.&nbsp\;<br />\nCome to be challenged by other business owners.</em></span></span><br />\n<u><span style="font-family:calibri\,sans-serif\;"><span style="font-size:11.0pt\;">TOPIC: &nbsp\; &nbsp\;<strong>Sales\, Sales\, Sales</strong></span></span></u><br />\n<span style="font-size:14px\;"><span style="color:#008080\;"><em><a href="https://chambermaster.blob.core.windows.net/userfiles/UserFiles/chambers/434/File/2017_Executive_Roundtable/2017-12TheChallengerSale.docx">Click Here for Article #1</a>&nbsp\;The Challenger Sale<br />\n<a href="https://chambermaster.blob.core.windows.net/userfiles/UserFiles/chambers/434/File/2017_Executive_Roundtable/2017-12TheChallengerSale.docx">Click Here for Article #</a>2&nbsp\;</em></span></span><em style="color: rgb(0\, 128\, 128)\; font-size: 14px\;">The Challenger Sale</em><br />\n&nbsp\;
LOCATION:Glenview Park Center 2400 Chestnut Ave. Room 203
UID:e.434.6720
SEQUENCE:3
DTSTAMP:20260425T202427Z
URL:http://business.glenviewchamber.com/events/details/cancelled-business-executive-roundtable-6720
END:VEVENT

END:VCALENDAR
