BEGIN:VCALENDAR
VERSION:2.0
PRODID:-//ChamberMaster//Event Calendar 2.0//EN
METHOD:PUBLISH
X-PUBLISHED-TTL:P3D
REFRESH-INTERVAL:P3D
CALSCALE:GREGORIAN
BEGIN:VEVENT
DTSTART:20180511T164500Z
DTEND:20180511T180000Z
X-MICROSOFT-CDO-ALLDAYEVENT:FALSE
SUMMARY:CANCELLED Business Roundtable
DESCRIPTION:Business Roundtable brings together a variety of business professionals on a different topic each month.  \n\nReview the videos and/or reading materials\, then come together in a roundtable forum .\n\n to learn\n\n to share\n\n to be challenged by other business owners. \n\n \n\nFacilitated by: Business Coach PJ Weiland and Life Coach Sue Blue.\n\nTopic: Summer Success   Minimizing the Impact of Seasonality on your Business\n\nHOMEWORK: \n\nhttps://www.youtube.com/watch?v=w5bSVrPdH8c \n\nhttps://www.wisestamp.com/blog/get-your-small-business-through-the-summer/
X-ALT-DESC;FMTTYPE=text/html:Business Roundtable brings together a variety of business professionals on a different topic each month.&nbsp\;&nbsp\;<br />\nReview the videos and/or reading materials\, then come together in a roundtable forum&hellip\;.<br />\n&hellip\;to learn<br />\n&hellip\;to share<br />\n&hellip\;to be challenged by other business owners.&nbsp\;<br />\n&nbsp\;<br />\nFacilitated by: Business Coach PJ Weiland and Life Coach Sue Blue.<br />\nTopic:&nbsp\;Summer Success &ndash\; Minimizing the Impact of Seasonality on your Business<br />\nHOMEWORK:&nbsp\;<br />\n<a href="https://www.youtube.com/watch?v=w5bSVrPdH8c">https://www.youtube.com/watch?v=w5bSVrPdH8c&nbsp\;</a><br />\n<a href="https://www.wisestamp.com/blog/get-your-small-business-through-the-summer/">https://www.wisestamp.com/blog/get-your-small-business-through-the-summer/</a><br />\n&nbsp\;
LOCATION:Glenview Park Center 2400 Chestnut Ave. Room 203
UID:e.434.8751
SEQUENCE:3
DTSTAMP:20260425T135610Z
URL:http://business.glenviewchamber.com/events/details/cancelled-business-roundtable-8751
END:VEVENT

END:VCALENDAR
