BEGIN:VCALENDAR
VERSION:2.0
PRODID:-//ChamberMaster//Event Calendar 2.0//EN
METHOD:PUBLISH
X-PUBLISHED-TTL:P3D
REFRESH-INTERVAL:P3D
CALSCALE:GREGORIAN
BEGIN:VEVENT
DTSTART:20180122T170000Z
DTEND:20180122T180000Z
X-MICROSOFT-CDO-ALLDAYEVENT:FALSE
SUMMARY:CANCELLED - FUEL: Body to Mind formerly known as Bikram Yoga North Shore - 5 year Anniversary
DESCRIPTION:Celebrate 5 years of Bikram Yoga North Shore which is under a new name (same owners and classes) FUEL: Body to Mind!
X-ALT-DESC;FMTTYPE=text/html:Celebrate 5 years of Bikram&nbsp\;Yoga North Shore which is under a new name (same owners and classes) FUEL: Body to Mind!&nbsp\;
LOCATION:1926 Waukegan Road Glenview\, IL 60025
UID:e.434.8702
SEQUENCE:3
DTSTAMP:20260425T190734Z
URL:http://business.glenviewchamber.com/events/details/cancelled-fuel-body-to-mind-formerly-known-as-bikram-yoga-north-shore-5-year-anniversary-8702
END:VEVENT

END:VCALENDAR
