BEGIN:VCALENDAR
VERSION:2.0
PRODID:-//ChamberMaster//Event Calendar 2.0//EN
METHOD:PUBLISH
X-PUBLISHED-TTL:P3D
REFRESH-INTERVAL:P3D
CALSCALE:GREGORIAN
BEGIN:VEVENT
DTSTART:20180131T140000Z
DTEND:20180131T150000Z
X-MICROSOFT-CDO-ALLDAYEVENT:FALSE
SUMMARY:CANCELLED Not For Profit Group Meeting
DESCRIPTION:Not for Profit Group Meeting.  We will be discussing the impact of the new tax reform bill on Not for Profits.
X-ALT-DESC;FMTTYPE=text/html:<font color="#4c4c53" face="AsapRegular\, Arial\, sans-serif"><span style="font-size: 14px\;"><b>Not for Profit Group Meeting.&nbsp\; We</b></span></font><span style="font-size:14px\;"><strong><span style="font-family:arial\;">&nbsp\;will be discussing the impact of the new&nbsp\;</span></strong></span><strong style="font-size: 14px\;"><span style="font-family: arial\;">tax reform bill on</span></strong><span style="font-size:14px\;"><strong><span style="font-family:arial\;">&nbsp\;Not for Profits.</span></strong></span>
LOCATION:Kohl Children's Museum Conference Room 2100 Patriot Blvd Glenview\, IL 60026
UID:e.434.8701
SEQUENCE:3
DTSTAMP:20260425T202716Z
URL:http://business.glenviewchamber.com/events/details/cancelled-not-for-profit-group-meeting-8701
END:VEVENT

END:VCALENDAR
