BEGIN:VCALENDAR
VERSION:2.0
PRODID:-//ChamberMaster//Event Calendar 2.0//EN
METHOD:PUBLISH
X-PUBLISHED-TTL:P3D
REFRESH-INTERVAL:P3D
CALSCALE:GREGORIAN
BEGIN:VEVENT
DTSTART:20251101T110000Z
DTEND:20251108T030000Z
X-MICROSOFT-CDO-ALLDAYEVENT:FALSE
SUMMARY:Candy Drive
DESCRIPTION:Donate Your Halloween Candy to those in need! Drop off at the NSYMCA Front Desk.
X-ALT-DESC;FMTTYPE=text/html:Donate Your Halloween Candy to those in need! Drop off at the NSYMCA Front Desk.
LOCATION:North Suburban YMCA 2705 Techny Rd. Northbrook. IL 60062
UID:e.434.11515
SEQUENCE:3
DTSTAMP:20260422T175411Z
URL:http://business.glenviewchamber.com/events/details/candy-drive-11515
END:VEVENT

END:VCALENDAR
