BEGIN:VCALENDAR
VERSION:2.0
PRODID:-//ChamberMaster//Event Calendar 2.0//EN
METHOD:PUBLISH
X-PUBLISHED-TTL:P3D
REFRESH-INTERVAL:P3D
CALSCALE:GREGORIAN
BEGIN:VEVENT
DTSTART:20250214T000000Z
DTEND:20250214T020000Z
X-MICROSOFT-CDO-ALLDAYEVENT:FALSE
SUMMARY:CANVA 2.0: VIDEO DESIGN ESSENTIALS
DESCRIPTION:What to expect during the workshop:\n\nLearn to create stunning designs for your brand quickly and easily. No experience needed - just bring your laptop\, a Canva account\, and a willingness to learn!\n\n \n\nHere's how the workshop is organized:\n\n\n	Build on your Canva foundation with dynamic video creation\n	Learn to transform static designs into engaging video content\n	Master video-specific tools including transitions\, timing\, and animation\n	Create a complete video project during our hands-on workshop\n\n\n*Note: Completion of Canva 1.0 or equivalent experience with Canva basics and brand kit setup is recommended for this workshop.\n\n \n\nCanva Workshop Educator\, Amy Alexander
X-ALT-DESC;FMTTYPE=text/html:<h6 style="box-sizing: border-box\; border: 0px solid rgb(51\, 51\, 51)\; margin: 0px\; -webkit-font-smoothing: antialiased\; -webkit-tap-highlight-color: transparent\; font-family: &quot\;DINCond-Light Regular&quot\;\; color: rgb(21\, 21\, 21)\; direction: ltr\; font-weight: 700\; text-decoration-line: inherit\; font-size: 18px\; background-color: rgba(0\, 0\, 0\, 0.05)\;"><span style="box-sizing: border-box\; border: 0px solid rgb(51\, 51\, 51)\; -webkit-font-smoothing: antialiased\; -webkit-tap-highlight-color: transparent\; display: initial\;">What to expect during the workshop:</span></h6>\n\n<h6 style="box-sizing: border-box\; border: 0px solid rgb(51\, 51\, 51)\; margin: 0px\; -webkit-font-smoothing: antialiased\; -webkit-tap-highlight-color: transparent\; font-family: &quot\;DINCond-Light Regular&quot\;\; color: rgb(21\, 21\, 21)\; direction: ltr\; font-weight: 700\; text-decoration-line: inherit\; font-size: 18px\; background-color: rgba(0\, 0\, 0\, 0.05)\;"><span style="box-sizing: border-box\; border: 0px solid rgb(51\, 51\, 51)\; -webkit-font-smoothing: antialiased\; -webkit-tap-highlight-color: transparent\; display: initial\; font-weight: normal\;">Learn to create stunning designs for your brand quickly and easily. No experience needed - just bring your laptop\, a Canva account\, and a willingness to learn!</span></h6>\n\n<h6 style="box-sizing: border-box\; border: 0px solid rgb(51\, 51\, 51)\; margin: 0px\; -webkit-font-smoothing: antialiased\; -webkit-tap-highlight-color: transparent\; font-family: &quot\;DINCond-Light Regular&quot\;\; color: rgb(21\, 21\, 21)\; direction: ltr\; font-weight: 700\; text-decoration-line: inherit\; font-size: 18px\; background-color: rgba(0\, 0\, 0\, 0.05)\;">&nbsp\;</h6>\n\n<h6 style="box-sizing: border-box\; border: 0px solid rgb(51\, 51\, 51)\; margin: 0px\; -webkit-font-smoothing: antialiased\; -webkit-tap-highlight-color: transparent\; font-family: &quot\;DINCond-Light Regular&quot\;\; color: rgb(21\, 21\, 21)\; direction: ltr\; font-weight: 700\; text-decoration-line: inherit\; font-size: 18px\; background-color: rgba(0\, 0\, 0\, 0.05)\;"><span style="box-sizing: border-box\; border: 0px solid rgb(51\, 51\, 51)\; -webkit-font-smoothing: antialiased\; -webkit-tap-highlight-color: transparent\; display: initial\;">Here&#39\;s how the workshop is organized:</span></h6>\n\n<ul class="defaultList bullet" style="box-sizing: border-box\; border: 0px solid rgb(51\, 51\, 51)\; margin: 0px\; vertical-align: top\; -webkit-font-smoothing: antialiased\; padding-right: 0px\; padding-left: 0px\; counter-reset: list-1 0 list-2 0 list-3 0 list-4 0 list-5 0 list-6 0 list-7 0 list-8 0 list-9 0\; -webkit-tap-highlight-color: transparent\; color: rgb(255\, 255\, 255)\; font-family: &quot\;DINCond-Light Regular&quot\;\; font-size: 30px\; background-color: rgba(0\, 0\, 0\, 0.05)\;">\n	<li class="m-size-14 size-18" style="box-sizing: border-box\; border: 0px solid rgb(51\, 51\, 51)\; vertical-align: top\; -webkit-font-smoothing: antialiased\; list-style-type: none\; text-indent: -1.5em\; margin: 0px 1em\; margin-inline: 2em 0px\; -webkit-tap-highlight-color: transparent\; color: var(--color_2)\; direction: ltr\; font-family: FontsFree-Net-D-DINCondensed-Bold\; font-size: 18px !important\;"><span class="m-font-size-14 font-size-18" style="box-sizing: border-box\; border: 0px solid rgb(51\, 51\, 51)\; -webkit-font-smoothing: antialiased\; -webkit-tap-highlight-color: transparent\; display: initial\; font-family: &quot\;DINCond-Light Regular&quot\;\;">Build on your Canva foundation with dynamic video creation</span></li>\n	<li class="m-size-14 size-18" style="box-sizing: border-box\; border: 0px solid rgb(51\, 51\, 51)\; vertical-align: top\; -webkit-font-smoothing: antialiased\; list-style-type: none\; text-indent: -1.5em\; margin: 0px 1em\; margin-inline: 2em 0px\; -webkit-tap-highlight-color: transparent\; color: var(--color_2)\; direction: ltr\; font-family: FontsFree-Net-D-DINCondensed-Bold\; font-size: 18px !important\;"><span class="m-font-size-14 font-size-18" style="box-sizing: border-box\; border: 0px solid rgb(51\, 51\, 51)\; -webkit-font-smoothing: antialiased\; -webkit-tap-highlight-color: transparent\; display: initial\; font-family: &quot\;DINCond-Light Regular&quot\;\;">Learn to transform static designs into engaging video content</span></li>\n	<li class="m-size-14 size-18" style="box-sizing: border-box\; border: 0px solid rgb(51\, 51\, 51)\; vertical-align: top\; -webkit-font-smoothing: antialiased\; list-style-type: none\; text-indent: -1.5em\; margin: 0px 1em\; margin-inline: 2em 0px\; -webkit-tap-highlight-color: transparent\; color: var(--color_2)\; direction: ltr\; font-family: FontsFree-Net-D-DINCondensed-Bold\; font-size: 18px !important\;"><span class="m-font-size-14 font-size-18" style="box-sizing: border-box\; border: 0px solid rgb(51\, 51\, 51)\; -webkit-font-smoothing: antialiased\; -webkit-tap-highlight-color: transparent\; display: initial\; font-family: &quot\;DINCond-Light Regular&quot\;\;">Master video-specific tools including transitions\, timing\, and animation</span></li>\n	<li class="m-size-14 size-18" style="box-sizing: border-box\; border: 0px solid rgb(51\, 51\, 51)\; vertical-align: top\; -webkit-font-smoothing: antialiased\; list-style-type: none\; text-indent: -1.5em\; margin: 0px 1em\; margin-inline: 2em 0px\; -webkit-tap-highlight-color: transparent\; color: var(--color_2)\; direction: ltr\; font-family: FontsFree-Net-D-DINCondensed-Bold\; font-size: 18px !important\;"><span class="m-font-size-14 font-size-18" style="box-sizing: border-box\; border: 0px solid rgb(51\, 51\, 51)\; -webkit-font-smoothing: antialiased\; -webkit-tap-highlight-color: transparent\; display: initial\; font-family: &quot\;DINCond-Light Regular&quot\;\;">Create a complete video project during our hands-on workshop</span></li>\n</ul>\n\n<h6 style="box-sizing: border-box\; border: 0px solid rgb(51\, 51\, 51)\; margin: 0px\; -webkit-font-smoothing: antialiased\; -webkit-tap-highlight-color: transparent\; font-family: &quot\;DINCond-Light Regular&quot\;\; color: rgb(21\, 21\, 21)\; direction: ltr\; font-weight: 700\; text-decoration-line: inherit\; font-size: 18px\; background-color: rgba(0\, 0\, 0\, 0.05)\;"><span style="box-sizing: border-box\; border: 0px solid rgb(51\, 51\, 51)\; -webkit-font-smoothing: antialiased\; -webkit-tap-highlight-color: transparent\; display: initial\; font-weight: normal\;">*Note: Completion of Canva 1.0 or equivalent experience with Canva basics and brand kit setup is recommended for this workshop.</span></h6>\n\n<h6 style="box-sizing: border-box\; border: 0px solid rgb(51\, 51\, 51)\; margin: 0px\; -webkit-font-smoothing: antialiased\; -webkit-tap-highlight-color: transparent\; font-family: &quot\;DINCond-Light Regular&quot\;\; color: rgb(21\, 21\, 21)\; direction: ltr\; font-weight: 700\; text-decoration-line: inherit\; font-size: 18px\; background-color: rgba(0\, 0\, 0\, 0.05)\;">&nbsp\;</h6>\n\n<h6 style="box-sizing: border-box\; border: 0px solid rgb(51\, 51\, 51)\; margin: 0px\; -webkit-font-smoothing: antialiased\; -webkit-tap-highlight-color: transparent\; font-family: &quot\;DINCond-Light Regular&quot\;\; color: rgb(21\, 21\, 21)\; direction: ltr\; font-weight: 700\; text-decoration-line: inherit\; font-size: 18px\; background-color: rgba(0\, 0\, 0\, 0.05)\;"><span style="box-sizing: border-box\; border: 0px solid rgb(51\, 51\, 51)\; -webkit-font-smoothing: antialiased\; -webkit-tap-highlight-color: transparent\; display: initial\; color: rgb(237\, 23\, 135)\;">Canva Workshop Educator\, Amy Alexander</span></h6>\n
LOCATION:Location TBD in Glenview
UID:e.434.11136
SEQUENCE:3
DTSTAMP:20260421T082530Z
URL:http://business.glenviewchamber.com/events/details/canva-2-0-video-design-essentials-11136
END:VEVENT

END:VCALENDAR
