BEGIN:VCALENDAR
VERSION:2.0
PRODID:-//ChamberMaster//Event Calendar 2.0//EN
METHOD:PUBLISH
X-PUBLISHED-TTL:P3D
REFRESH-INTERVAL:P3D
CALSCALE:GREGORIAN
BEGIN:VEVENT
DTSTART:20191019T160000Z
DTEND:20191019T200000Z
X-MICROSOFT-CDO-ALLDAYEVENT:FALSE
SUMMARY:Carillon Square's Third Annual Fall Fun Festival
DESCRIPTION:Free event!\n\nPlease join us for\n\nCarillon Square's Third Annual\n\nFall Fun Festival\n\nMall Specials & Promotions\, Pumpkin Giveaway\, Free Kiids Zone including DJ\, Bounce House\, Taffy Apples\, Children's Activities and More\n\n*while supplies last
X-ALT-DESC;FMTTYPE=text/html:Free event!<br />\nPlease join us for<br />\nCarillon Square&#39\;s Third Annual<br />\nFall Fun Festival<br />\nMall Specials &amp\; Promotions\, Pumpkin Giveaway\, Free Kiids Zone including DJ\, Bounce House\, Taffy Apples\, Children&#39\;s Activities and More<br />\n*while supplies last
LOCATION:Carillon Square 1412-1498 Waukegan Road Glenview
UID:e.434.10260
SEQUENCE:3
DTSTAMP:20260424T163222Z
URL:http://business.glenviewchamber.com/events/details/carillon-square-s-third-annual-fall-fun-festival-10260
END:VEVENT

END:VCALENDAR
