BEGIN:VCALENDAR
VERSION:2.0
PRODID:-//ChamberMaster//Event Calendar 2.0//EN
METHOD:PUBLISH
X-PUBLISHED-TTL:P3D
REFRESH-INTERVAL:P3D
CALSCALE:GREGORIAN
BEGIN:VEVENT
DTSTART;VALUE=DATE:20190121
DTEND;VALUE=DATE:20190122
TRANSP:TRANSPARENT
X-MICROSOFT-CDO-ALLDAYEVENT:TRUE
SUMMARY:CHAMBER OFFICE CLOSED
DESCRIPTION:CHAMBER OFFICE CLOSED DUE TO MARTIN LUTHER KING\, JR. BANK HOLIDAY.
X-ALT-DESC;FMTTYPE=text/html:<span style="color: rgb(76\, 76\, 83)\; font-family: AsapRegular\, Arial\, sans-serif\; font-size: 14px\;">CHAMBER OFFICE CLOSED DUE TO MARTIN LUTHER KING\, JR. BANK HOLIDAY.</span>
LOCATION:
UID:e.434.10061
SEQUENCE:3
DTSTAMP:20260425T034744Z
URL:http://business.glenviewchamber.com/events/details/chamber-office-closed-10061
END:VEVENT

END:VCALENDAR
