BEGIN:VCALENDAR
VERSION:2.0
PRODID:-//ChamberMaster//Event Calendar 2.0//EN
METHOD:PUBLISH
X-PUBLISHED-TTL:P3D
REFRESH-INTERVAL:P3D
CALSCALE:GREGORIAN
BEGIN:VEVENT
DTSTART;VALUE=DATE:20190130
DTEND;VALUE=DATE:20190131
TRANSP:TRANSPARENT
X-MICROSOFT-CDO-ALLDAYEVENT:TRUE
SUMMARY:CHAMBER OFFICE CLOSED
DESCRIPTION:Due to the extreme weather conditions\, we will be closing the Chamber office on Wednesday\, January 30. Also\, our Young Professionals Group Networking event will be canceled. Stay tuned as we reschedule a date for February. Stay safe and warm!
X-ALT-DESC;FMTTYPE=text/html:Due to the extreme weather conditions\, we will be closing the Chamber office on&nbsp\;<strong>Wednesday\, January 30.</strong>&nbsp\;Also\, our Young Professionals Group Networking event will be canceled. Stay tuned as we reschedule a date for February. Stay safe and warm!
LOCATION:
UID:e.434.10075
SEQUENCE:3
DTSTAMP:20260425T034744Z
URL:http://business.glenviewchamber.com/events/details/chamber-office-closed-10075
END:VEVENT

END:VCALENDAR
