BEGIN:VCALENDAR
VERSION:2.0
PRODID:-//ChamberMaster//Event Calendar 2.0//EN
METHOD:PUBLISH
X-PUBLISHED-TTL:P3D
REFRESH-INTERVAL:P3D
CALSCALE:GREGORIAN
BEGIN:VEVENT
DTSTART;VALUE=DATE:20190218
DTEND;VALUE=DATE:20190219
TRANSP:TRANSPARENT
X-MICROSOFT-CDO-ALLDAYEVENT:TRUE
SUMMARY:CHAMBER OFFICE CLOSED DUE TO BANK HOLIDAY
DESCRIPTION:CHAMBER OFFICE CLOSED DUE TO BANK HOLIDAY.
X-ALT-DESC;FMTTYPE=text/html:<span style="color: rgb(76\, 76\, 83)\; font-family: AsapRegular\, Arial\, sans-serif\; font-size: 14px\;">CHAMBER OFFICE CLOSED DUE TO BANK HOLIDAY.</span>
LOCATION:
UID:e.434.10065
SEQUENCE:3
DTSTAMP:20260425T035336Z
URL:http://business.glenviewchamber.com/events/details/chamber-office-closed-due-to-bank-holiday-10065
END:VEVENT

END:VCALENDAR
