BEGIN:VCALENDAR
VERSION:2.0
PRODID:-//ChamberMaster//Event Calendar 2.0//EN
METHOD:PUBLISH
X-PUBLISHED-TTL:P3D
REFRESH-INTERVAL:P3D
CALSCALE:GREGORIAN
BEGIN:VEVENT
DTSTART:20180512T140000Z
DTEND:20180512T170000Z
X-MICROSOFT-CDO-ALLDAYEVENT:FALSE
SUMMARY:Chicago River Day
DESCRIPTION:You're invited to join the Village of Glenview Natural Resources Commission for the 26th annual Chicago River Day. Help to beautify the West Fork of the North Branch of the Chicago River with a trash pick-up\, and garlic mustard pull. \n\nTogether we can make a difference!
X-ALT-DESC;FMTTYPE=text/html:<p>You&rsquo\;re invited to join the Village of Glenview Natural Resources Commission for the 26th annual Chicago River Day. Help to beautify the West Fork of the North Branch of the Chicago River with a trash pick-up\, and garlic mustard pull.&nbsp\;</p>\n\n<p>Together we can make a difference!</p>\n
LOCATION:Meet at Kohl's parking lot off of Willow Road
UID:e.434.8768
SEQUENCE:3
DTSTAMP:20260425T135427Z
URL:http://business.glenviewchamber.com/events/details/chicago-river-day-8768
END:VEVENT

END:VCALENDAR
