BEGIN:VCALENDAR
VERSION:2.0
PRODID:-//ChamberMaster//Event Calendar 2.0//EN
METHOD:PUBLISH
X-PUBLISHED-TTL:P3D
REFRESH-INTERVAL:P3D
CALSCALE:GREGORIAN
BEGIN:VEVENT
DTSTART:20260916T170000Z
DTEND:20260916T180000Z
X-MICROSOFT-CDO-ALLDAYEVENT:FALSE
SUMMARY:Children's Family Business Networking
DESCRIPTION:Join the Children's Family Business Network meeting! It is a great opportunity for businesses and organizations that are focused on opportunities for children and families in and around Glenview or business that have products or services that can help serve these organizations to meet and connect.
X-ALT-DESC;FMTTYPE=text/html:<span style="color: rgb(76\, 76\, 83)\; font-family: &quot\;Segoe UI Historic&quot\;\, &quot\;Segoe UI&quot\;\, Helvetica\, Arial\, sans-serif\; font-size: 14px\; white-space-collapse: preserve\;">Join the Children&#39\;s Family Business Network meeting! It is a great opportunity for businesses and organizations that are focused on opportunities for children and families in and around Glenview or business that have products or services that can help serve these organizations to meet and connect. </span>
LOCATION:Russian School of Mathematics 2715 Pfingsten Road Suite 24 Glenview
UID:e.434.11530
SEQUENCE:3
DTSTAMP:20260425T011056Z
URL:http://business.glenviewchamber.com/events/details/children-s-family-business-networking-11530
END:VEVENT

END:VCALENDAR
