BEGIN:VCALENDAR
VERSION:2.0
PRODID:-//ChamberMaster//Event Calendar 2.0//EN
METHOD:PUBLISH
X-PUBLISHED-TTL:P3D
REFRESH-INTERVAL:P3D
CALSCALE:GREGORIAN
BEGIN:VEVENT
DTSTART:20190319T170000Z
DTEND:20190319T180000Z
X-MICROSOFT-CDO-ALLDAYEVENT:FALSE
SUMMARY:Chiro One Luncheon
DESCRIPTION:Join Dr. Irene\, at Chiro One Wellness Center in Glenview for a fun\, and engaging Lunch n Learn at Wildfire.
X-ALT-DESC;FMTTYPE=text/html:<span style="color:black\;"><span style="font-family:tahoma\,sans-serif\;"><span style="font-size:10.0pt\;">Join Dr. Irene\, at Chiro One Wellness Center in Glenview for a fun\, and engaging Lunch n Learn at Wildfire.&nbsp\;</span></span></span><br />\n<br />\n<br />\n&nbsp\;
LOCATION:Tuesday\, March 19th starting at 12pm at 1pm
UID:e.434.10120
SEQUENCE:3
DTSTAMP:20260425T034743Z
URL:http://business.glenviewchamber.com/events/details/chiro-one-luncheon-10120
END:VEVENT

END:VCALENDAR
