BEGIN:VCALENDAR
VERSION:2.0
PRODID:-//ChamberMaster//Event Calendar 2.0//EN
METHOD:PUBLISH
X-PUBLISHED-TTL:P3D
REFRESH-INTERVAL:P3D
CALSCALE:GREGORIAN
BEGIN:VEVENT
DTSTART;VALUE=DATE:20180312
DTEND;VALUE=DATE:20180313
TRANSP:TRANSPARENT
X-MICROSOFT-CDO-ALLDAYEVENT:TRUE
SUMMARY:Civic Award Nomination Deadline
DESCRIPTION:Nominations will be accepted until 3 p.m. Monday\, March 12 in these categories:\n\n\n	Citizen of the Year\n\n	Must live or work in Glenview\n	Youth of the Year\n\n	Must be a Glenview resident in high school\n	Public Safety Award\n\n	Must be a Village police officer\, firefighter/paramedic or dispatcher\n	Public Service Award\n\n	Must have given direct support to public authorities
X-ALT-DESC;FMTTYPE=text/html:<p style="margin: 10px 0px 0px\; line-height: 1.6\; color: rgb(102\, 102\, 102)\; font-family: Lato\, sans-serif\; font-size: 13px\; background-color: rgb(255\, 255\, 255)\;">Nominations will be accepted until 3 p.m. Monday\, March 12 in these categories:</p>\n\n<ul style="list-style-type: none\; margin: 10px 0px 0px 25px\; padding: 0px 0px 0px 5px\; color: rgb(102\, 102\, 102)\; font-family: Lato\, sans-serif\; font-size: 13px\; background-color: rgb(255\, 255\, 255)\;">\n	<li style="margin: 0px 25px 0px 0px\; padding: 0px\; list-style: none\;"><strong>Citizen of the Year</strong><br />\n	Must live or work in Glenview</li>\n	<li style="margin: 11px 25px 0px 0px\; padding: 0px\; list-style: none\;"><strong>Youth of the Year</strong><br />\n	Must be a Glenview resident in high school</li>\n	<li style="margin: 11px 25px 0px 0px\; padding: 0px\; list-style: none\;"><strong>Public Safety Award</strong><br />\n	Must be a Village police officer\, firefighter/paramedic or dispatcher</li>\n	<li style="margin: 11px 25px 0px 0px\; padding: 0px\; list-style: none\;"><strong>Public Service Award</strong><br />\n	Must have given direct support to public authorities</li>\n</ul>\n
LOCATION:Criteria for nominations can be found by clicking HERE Nomination form can be found by clicking HERE This civic event is sponsored by the Glenview Chamber of Commerce and these service clubs in the Village: American Legion Post 166\, Glenview Women's Club\, Kiwanis Club of Glenview/ Northbrook\, Lions\, Navy League-Glenview Council\, Optimist\, Rotary-Luncheon and Rotary-Sunrise. Each year a member of each organization participates on a selection committee that reviews nominations and selects award recipients.
UID:e.434.8739
SEQUENCE:3
DTSTAMP:20260425T163316Z
URL:http://business.glenviewchamber.com/events/details/civic-award-nomination-deadline-8739
END:VEVENT

END:VCALENDAR
