BEGIN:VCALENDAR
VERSION:2.0
PRODID:-//ChamberMaster//Event Calendar 2.0//EN
METHOD:PUBLISH
X-PUBLISHED-TTL:P3D
REFRESH-INTERVAL:P3D
CALSCALE:GREGORIAN
BEGIN:VEVENT
DTSTART:20180131T230000Z
DTEND:20180201T010000Z
X-MICROSOFT-CDO-ALLDAYEVENT:FALSE
SUMMARY:CKF Acupuncture Grand Opening
DESCRIPTION:CKF Acupuncture Grand Opening   new location at 1500 Waukegan Road\, Suite 210 (Carillon Square). Appetizers and drinks provided.
X-ALT-DESC;FMTTYPE=text/html:<strong><span style="color:black\;">CKF Acupuncture Grand Opening </span></strong><span style="color:black\;">&ndash\; new location at 1500 Waukegan Road\, Suite 210 (Carillon Square). Appetizers and drinks provided.&nbsp\;</span>
LOCATION:1500 Waukegan Road\, Suite 210 (Carillon Square) Glenview
UID:e.434.8708
SEQUENCE:3
DTSTAMP:20260425T190435Z
URL:http://business.glenviewchamber.com/events/details/ckf-acupuncture-grand-opening-8708
END:VEVENT

END:VCALENDAR
