BEGIN:VCALENDAR
VERSION:2.0
PRODID:-//ChamberMaster//Event Calendar 2.0//EN
METHOD:PUBLISH
X-PUBLISHED-TTL:P3D
REFRESH-INTERVAL:P3D
CALSCALE:GREGORIAN
BEGIN:VEVENT
DTSTART:20170923T140000Z
DTEND:20170923T160000Z
X-MICROSOFT-CDO-ALLDAYEVENT:FALSE
SUMMARY:Coffee\, Classics & Connections
DESCRIPTION:You're Invited!\n\nCoffee\, Classics & Connections\n\nfor classic car lovers of all ages!
X-ALT-DESC;FMTTYPE=text/html:You&#39\;re Invited!<br />\nCoffee\, Classics &amp\; Connections<br />\nfor classic car lovers of all ages!
LOCATION:At Glenview Bank & Trust 99 Waukegan Road Glenview (bank parking lot)
UID:e.434.7307
SEQUENCE:3
DTSTAMP:20260426T001404Z
URL:http://business.glenviewchamber.com/events/details/coffee-classics-connections-7307
END:VEVENT

END:VCALENDAR
