BEGIN:VCALENDAR
VERSION:2.0
PRODID:-//ChamberMaster//Event Calendar 2.0//EN
METHOD:PUBLISH
X-PUBLISHED-TTL:P3D
REFRESH-INTERVAL:P3D
CALSCALE:GREGORIAN
BEGIN:VEVENT
DTSTART:20190330T170000Z
DTEND:20190330T190000Z
X-MICROSOFT-CDO-ALLDAYEVENT:FALSE
SUMMARY:Coffee with the Coaches
DESCRIPTION:Coffee with the Coaches\n\nJimmy Murray\n\nKansas City Chiefs Center\n\nLoyola Academy '13\n\n\n\n2019 IHSA Class 8A State Champions\n\nLoyola Academy's Coach John Holecek & Loyola Football Team Players and\n\nMark Carrier\n\nLoyola's new Assistant Athletic Director and former Chicago Bear
X-ALT-DESC;FMTTYPE=text/html:Coffee with the Coaches<br />\nJimmy Murray<br />\nKansas City Chiefs Center<br />\nLoyola Academy &#39\;13<br />\n<br />\n2019 IHSA Class 8A State Champions<br />\nLoyola Academy&#39\;s Coach John Holecek &amp\; Loyola Football Team Players and<br />\nMark Carrier<br />\nLoyola&#39\;s new Assistant Athletic Director and former Chicago Bear<br />\n&nbsp\;&nbsp\;&nbsp\;&nbsp\;
LOCATION:Misericordia Sweet Shoppe 989 Waukegan Road Glenview
UID:e.434.10133
SEQUENCE:3
DTSTAMP:20260425T034826Z
URL:http://business.glenviewchamber.com/events/details/coffee-with-the-coaches-10133
END:VEVENT

END:VCALENDAR
