BEGIN:VCALENDAR
VERSION:2.0
PRODID:-//ChamberMaster//Event Calendar 2.0//EN
METHOD:PUBLISH
X-PUBLISHED-TTL:P3D
REFRESH-INTERVAL:P3D
CALSCALE:GREGORIAN
BEGIN:VEVENT
DTSTART;VALUE=DATE:20191003
DTEND;VALUE=DATE:20191004
TRANSP:TRANSPARENT
X-MICROSOFT-CDO-ALLDAYEVENT:TRUE
SUMMARY:Community Defense Forum
DESCRIPTION:Join us Thursday\, October 3rd at 6:30 pm\, to learn how to protect yourself and be an effective advocate for your neighbors. We will share "Know Your Rights" information for individuals and parents. As the only immigration attorney in Illinois General Assembly\, Jennifer will be there to answer questions\, provide legislative updates\, and share resources for our community.
X-ALT-DESC;FMTTYPE=text/html:<div>\n<p><span style="font-family:arial\,helvetica\,sans-serif"><span style="font-size:12px">Join us Thursday\, October 3<sup>rd</sup> at 6:30 pm\, to learn how to protect yourself and be an effective advocate for your neighbors. We will share &ldquo\;Know Your Rights&rdquo\; information for individuals and parents. As the only immigration attorney in Illinois General Assembly\, Jennifer will be there to answer questions\, provide legislative updates\, and share resources for our community.</span></span><br />\n&nbsp\;</p>\n\n<div>\n<div>\n<div>\n<div>\n<p>&nbsp\;</p>\n</div>\n</div>\n</div>\n</div>\n</div>\n
LOCATION:Skokie Public Library Petty Auditorium 5215 Oakton Street | Skokie\, IL
UID:e.434.10254
SEQUENCE:3
DTSTAMP:20260424T135740Z
URL:http://business.glenviewchamber.com/events/details/commmunity-defense-forum-10254
END:VEVENT

END:VCALENDAR
