BEGIN:VCALENDAR
VERSION:2.0
PRODID:-//ChamberMaster//Event Calendar 2.0//EN
METHOD:PUBLISH
X-PUBLISHED-TTL:P3D
REFRESH-INTERVAL:P3D
CALSCALE:GREGORIAN
BEGIN:VEVENT
DTSTART:20190310T200000Z
DTEND:20190310T220000Z
X-MICROSOFT-CDO-ALLDAYEVENT:FALSE
SUMMARY:Concert for Peace: The World Is About to Turn
DESCRIPTION:The Simple Gifts Concert Series of the Glenview Community Church\, 1000 Elm Street\, hosts a concert exploring the theme of peace\, Concert for Peace: The World is About to Turn\, on Sunday\, March 10th at 3:00 p.m. Singer-songwriter The Simple Gifts Concert Series of the Glenview Community Church\, 1000 Elm Street\, hosts a concert exploring the theme of peace\, Concert for Peace: The World is About to Turn\, on Sunday\, March 10th at 3:00 p.m. Singer-songwriter Linda Marie Smith\, organist Gary Wendt\, violinist Katherine Hughes\, saxophonist Kevin Kizer\, the HAWK String Quartet (violinist Carol Kalvonjian\, violist Ray Ostwald\, and cellist Jill Kaeding\,)\, jazz vocalist Jade Maze\, and the rhythm section of Kent Wehman\, Ken Haebich\, and Neal Wehman perform songs about peace in a variety of styles\, from traditional to contemporary\, including original compositions. After years of professional performance experience these versatile musicians are equally comfortable with jazz\, classical and pop styles. Collaborating with these musicians will be representatives of different faith communities including participants from the Turkish American Society in Mount Prospect\, members of the Glenview Community Church Chancel Choir\, and Elliot Dvorin of the Key Tov Orchestra. Enjoy a post-concert reception featuring a peace-themed art show. A free-will offering benefits Hands of Peace. For more information call 847-724-2210 or visit our website: www.gccmusic.orgperform songs about peace in a variety of styles\, from traditional to contemporary\, including original compositions. After years of professional performance experience these versatile musicians are equally comfortable with jazz\, classical and pop styles. Collaborating with these musicians will be representatives of different faith communities including participants from the Turkish American Society in Mount Prospect\, members of the Glenview Community Church Chancel Choir\, and Elliot Dvorin of the Key Tov Orchestra. Enjoy a post-concert reception featuring a peace-themed art show. A free-will offering benefits Hands of Peace.
X-ALT-DESC;FMTTYPE=text/html:The Simple Gifts Concert Series of the Glenview Community Church\, 1000 Elm Street\, hosts a concert exploring the theme of peace\, Concert for Peace: The World is About to Turn\, on Sunday\, March 10th at 3:00 p.m. Singer-songwriter The Simple Gifts Concert Series of the Glenview Community Church\, 1000 Elm Street\, hosts a concert exploring the theme of peace\, Concert for Peace: The World is About to Turn\, on Sunday\, March 10th at 3:00 p.m. Singer-songwriter Linda Marie Smith\, organist Gary Wendt\, violinist Katherine Hughes\, saxophonist Kevin Kizer\, the HAWK String Quartet (violinist Carol Kalvonjian\, violist Ray Ostwald\, and cellist Jill Kaeding\,)\, jazz vocalist Jade Maze\, and the rhythm section of Kent Wehman\, Ken Haebich\, and Neal Wehman perform songs about peace in a variety of styles\, from traditional to contemporary\, including original compositions. After years of professional performance experience these versatile musicians are equally comfortable with jazz\, classical and pop styles. Collaborating with these musicians will be representatives of different faith communities including participants from the Turkish American Society in Mount Prospect\, members of the Glenview Community Church Chancel Choir\, and Elliot Dvorin of the Key Tov Orchestra. Enjoy a post-concert reception featuring a peace-themed art show. A free-will offering benefits Hands of Peace. For more information call 847-724-2210 or visit our website: www.gccmusic.orgperform songs about peace in a variety of styles\, from traditional to contemporary\, including original compositions. After years of professional performance experience these versatile musicians are equally comfortable with jazz\, classical and pop styles. Collaborating with these musicians will be representatives of different faith communities including participants from the Turkish American Society in Mount Prospect\, members of the Glenview Community Church Chancel Choir\, and Elliot Dvorin of the Key Tov Orchestra. Enjoy a post-concert reception featuring a peace-themed art show. A free-will offering benefits Hands of Peace.
LOCATION:1000 Elm Street\, Glenview
UID:e.434.10108
SEQUENCE:3
DTSTAMP:20260425T035336Z
URL:http://business.glenviewchamber.com/events/details/concert-for-peace-the-world-is-about-to-turn-10108
END:VEVENT

END:VCALENDAR
