BEGIN:VCALENDAR
VERSION:2.0
PRODID:-//ChamberMaster//Event Calendar 2.0//EN
METHOD:PUBLISH
X-PUBLISHED-TTL:P3D
REFRESH-INTERVAL:P3D
CALSCALE:GREGORIAN
BEGIN:VEVENT
DTSTART:20180722T163000Z
DTEND:20180722T170000Z
X-MICROSOFT-CDO-ALLDAYEVENT:FALSE
SUMMARY:Concert for Peace: Together for Peace
DESCRIPTION:The Simple Gifts Concert Series of the Glenview Community Church\, 1000 Elm Street\, hosts the 6th annual concert exploring the theme of peace\, "Concert for Peace: Together for Peace"\, on Sunday\, July 22nd\, at 11:30 a.m. Violinist Katherine Hughes\, saxophonist Kevin Kizer\, the HAWK String Quartet\, jazz vocalist Jade Maze\, and the rhythm section of Kent Wehman\, Ken Haebich\, and Neal Wehman perform songs about peace in a variety of styles\, from traditional to contemporary. Collaborating with these musicians will be representatives of different faith communities including participants from the Turkish American Society in Mount Prospect\, members of the Glenview Community Church Chancel Choir\, and Elliot Dvorin of the Key Tov Orchestra. Enjoy an accompanying art show\, curated by Pat Albano from Aaron Galleries in Glenview. Reception to follow. A free-will offering benefits Hands of Peace. For more information call the church office at 847-724-2210 or visit our website at www.gccmusic.org.
X-ALT-DESC;FMTTYPE=text/html:The Simple Gifts Concert Series of the Glenview Community Church\, 1000 Elm Street\, hosts the 6th annual concert exploring the theme of peace\, &ldquo\;Concert for Peace: Together for Peace&rdquo\;\, on Sunday\, July 22nd\, at 11:30 a.m. Violinist Katherine Hughes\, saxophonist Kevin Kizer\, the HAWK String Quartet\, jazz vocalist Jade Maze\, and the rhythm section of Kent Wehman\, Ken Haebich\, and Neal Wehman perform songs about peace in a variety of styles\, from traditional to contemporary. Collaborating with these musicians will be representatives of different faith communities including participants from the Turkish American Society in Mount Prospect\, members of the Glenview Community Church Chancel Choir\, and Elliot Dvorin of the Key Tov Orchestra. Enjoy an accompanying art show\, curated by Pat Albano from Aaron Galleries in Glenview. Reception to follow. A free-will offering benefits Hands of Peace. For more information call the church office at 847-724-2210 or visit our website at www.gccmusic.org.
LOCATION:Glenview Community Church\, 1000 Elm St.
UID:e.434.9810
SEQUENCE:3
DTSTAMP:20260425T124438Z
URL:http://business.glenviewchamber.com/events/details/concert-for-peace-together-for-peace-9810
END:VEVENT

END:VCALENDAR
