BEGIN:VCALENDAR
VERSION:2.0
PRODID:-//ChamberMaster//Event Calendar 2.0//EN
METHOD:PUBLISH
X-PUBLISHED-TTL:P3D
REFRESH-INTERVAL:P3D
CALSCALE:GREGORIAN
BEGIN:VEVENT
DTSTART:20190323T150000Z
DTEND:20190323T170000Z
X-MICROSOFT-CDO-ALLDAYEVENT:FALSE
SUMMARY:CONSUMER PROTECTION & FRAUD PREVENTION WORKSHOP
DESCRIPTION:LEARN HOW TO PROTECT YOUR IDENTITY\, YOUR\n\nMONEY\, AND YOUR FAMILY FROM FRAUD\n\n\n\nIdentity Theft\n\nImposter Scams\n\nSweepstakes & Lottery Scams\n\nDebt Collection Scams\n\nWork-from-Home Scams\n\nSpace is limited. Please register at\n\nhttp://bit.ly/ConsumerProtectionEventSpring2019\n\nTopics include:\n\nTelemarketing & Robocalls\n\nThe "Do Not Call" List\n\nCharities & Fundraising Fraud\n\nGovernment Grant Scams\n\nReverse Mortgage Scams\n\nExpert Speakers include:\n\nTodd Kossow\, Federal Trade Commission\n\nVijay Raghavan\, Illinois Attorney General's Office\n\nSylvia Carrier\, United States Postal Inspector's Office
X-ALT-DESC;FMTTYPE=text/html:LEARN HOW TO PROTECT YOUR IDENTITY\, YOUR<br />\nMONEY\, AND YOUR FAMILY FROM FRAUD<br />\n<br />\nIdentity Theft<br />\nImposter Scams<br />\nSweepstakes &amp\; Lottery Scams<br />\nDebt Collection Scams<br />\nWork-from-Home Scams<br />\nSpace is limited. Please register at<br />\nhttp://bit.ly/ConsumerProtectionEventSpring2019<br />\nTopics include:<br />\nTelemarketing &amp\; Robocalls<br />\nThe &quot\;Do Not Call&quot\; List<br />\nCharities &amp\; Fundraising Fraud<br />\nGovernment Grant Scams<br />\nReverse Mortgage Scams<br />\nExpert Speakers include:<br />\nTodd Kossow\, Federal Trade Commission<br />\nVijay Raghavan\, Illinois Attorney General&#39\;s Office<br />\nSylvia Carrier\, United States Postal Inspector&#39\;s Office<br />\n&nbsp\;
LOCATION:GLENVIEW PUBLIC LIBRARY 1930 GLENVIEW ROAD\, GLENVIEW ILLINOIS
UID:e.434.10125
SEQUENCE:3
DTSTAMP:20260425T034845Z
URL:http://business.glenviewchamber.com/events/details/consumer-protection-fraud-prevention-workshop-10125
END:VEVENT

END:VCALENDAR
