BEGIN:VCALENDAR
VERSION:2.0
PRODID:-//ChamberMaster//Event Calendar 2.0//EN
METHOD:PUBLISH
X-PUBLISHED-TTL:P3D
REFRESH-INTERVAL:P3D
CALSCALE:GREGORIAN
BEGIN:VEVENT
DTSTART:20180313T171500Z
DTEND:20180313T190000Z
X-MICROSOFT-CDO-ALLDAYEVENT:FALSE
SUMMARY:CORKLIN Annual Luncheon
DESCRIPTION:The luncheon is a great way to start celebrating St. Patrick's Day and get together for a fun luncheon and meet others in the \n\ncommunity who volunteer! The lunch choices will be: Corned Beef & Cabbage\, Burger\, Chicken Cesar Salad\, or Grilled Chicken. \n\n\n\nPresenter: Sean Cleland and others from the Irish Music School of Chicago http://irishmusicschool.org
X-ALT-DESC;FMTTYPE=text/html:<strong><span style="color:#FF6600\;"><span style="font-family:kristen itc\;"><span style="font-size:14.5pt\;">The luncheon is a great way to start celebrating St. Patrick&rsquo\;s Day and get together for a fun luncheon and meet others in the </span></span></span></strong><br />\n<strong><span style="color:#FF6600\;"><span style="font-family:kristen itc\;"><span style="font-size:14.5pt\;">community who volunteer! The lunch choices will be: Corned Beef &amp\; Cabbage\, Burger\, Chicken Cesar Salad\, or Grilled Chicken.&nbsp\;<br />\n<br />\nPresenter: Sean Cleland&nbsp\;and others from the Irish Music School of Chicago http://irishmusicschool.org</span></span></span></strong><br />\n<br />\n<br />\n&nbsp\;
LOCATION:HACKNEY'S ON LAKE 1514 E. Lake Ave.\, Glenview
UID:e.434.8720
SEQUENCE:3
DTSTAMP:20260425T163406Z
URL:http://business.glenviewchamber.com/events/details/corklin-annual-luncheon-8720
END:VEVENT

END:VCALENDAR
