BEGIN:VCALENDAR
VERSION:2.0
PRODID:-//ChamberMaster//Event Calendar 2.0//EN
METHOD:PUBLISH
X-PUBLISHED-TTL:P3D
REFRESH-INTERVAL:P3D
CALSCALE:GREGORIAN
BEGIN:VEVENT
DTSTART:20170812T170000Z
DTEND:20170812T230000Z
X-MICROSOFT-CDO-ALLDAYEVENT:FALSE
SUMMARY:Curragh Beer Fest
DESCRIPTION:The Curragh Craft Beer Festival\n\nThe Glen Tower Center - Glenview\n\nNo Entry Fee - Ticket Books Available for Purchase
X-ALT-DESC;FMTTYPE=text/html:The Curragh&nbsp\;Craft Beer Festival<br />\nThe Glen Tower Center - Glenview<br />\nNo Entry Fee - Ticket Books Available for Purchase
LOCATION:1800 Tower Drive Glenview\, IL
UID:e.434.7274
SEQUENCE:3
DTSTAMP:20260426T030417Z
URL:http://business.glenviewchamber.com/events/details/curragh-beer-fest-7274
END:VEVENT

END:VCALENDAR
